BEGIN:VCALENDAR
VERSION:2.0
PRODID:-//ChamberMaster//Event Calendar 2.0//EN
METHOD:PUBLISH
X-PUBLISHED-TTL:P3D
REFRESH-INTERVAL:P3D
CALSCALE:GREGORIAN
BEGIN:VEVENT
DTSTART:20220204T230000Z
DTEND:20220205T020000Z
X-MICROSOFT-CDO-ALLDAYEVENT:FALSE
SUMMARY:White Rhino Patio & Cocktail Bar- Ribbon Cutting
DESCRIPTION:Let's celebrate! Please join us in welcoming White Rhino Patio & Cocktail Bar to the Houston East End Chamber of Commerce with a Ribbon Cutting ceremony.\n\n\n\nRibbon Cutting Ceremony at 5:30PM
X-ALT-DESC;FMTTYPE=text/html:<div class="kvgmc6g5 cxmmr5t8 oygrvhab hcukyx3x c1et5uql" color:="" font-size:="" segoe="" style="overflow-wrap: break-word\; margin: 0px\; font-family: " ui="">Let&#39\;s celebrate! Please join us in welcoming White Rhino Patio &amp\; Cocktail Bar to the Houston East End Chamber of Commerce with a Ribbon Cutting ceremony.<br />\n<br />\n<strong>Ribbon Cutting Ceremony&nbsp\;at 5:30PM</strong></div>\n\n<div class="o9v6fnle cxmmr5t8 oygrvhab hcukyx3x c1et5uql" color:="" font-size:="" segoe="" style="overflow-wrap: break-word\; margin: 0.5em 0px 0px\; font-family: " ui="">&nbsp\;</div>\n
LOCATION:White Rhino Patio & Cocktail Bar 319 Milby St. Houston\, TX 77003
UID:e.2026.5072411
SEQUENCE:3
DTSTAMP:20260422T083020Z
URL:http://houstoneastend.smartcms.site/events/details/white-rhino-patio-cocktail-bar-ribbon-cutting-5072411
END:VEVENT

END:VCALENDAR
