BEGIN:VCALENDAR
VERSION:2.0
PRODID:-//ChamberMaster//Event Calendar 2.0//EN
METHOD:PUBLISH
X-PUBLISHED-TTL:P3D
REFRESH-INTERVAL:P3D
CALSCALE:GREGORIAN
BEGIN:VEVENT
DTSTART:20191109T160000Z
DTEND:20191109T200000Z
X-MICROSOFT-CDO-ALLDAYEVENT:FALSE
SUMMARY:Vive tu Vida! Get Up! Get Moving!
DESCRIPTION:On Saturday\, November 9\, 2019\, the Hispanic Health Coalition of Houston will present their sixth annual family health expo  Vive tu vida! Get Up! Get Moving!  at Mason Park. This event promotes Hispanic family physical activity and healthy lifestyles for people of all ages and sizes. ? The Houston event will feature: The All of Us Research Program Traveling Exhibit In addition\, participants will have access to: 5K Wellness Walk  Walkaround Elmo from Sesame Street  Cholesterol\, blood pressure\, glucose & more!  Yoga & Zumba Classes and Tennis Clinics  Free Trackless Train rides  Vision & dental screenings for kids  Nutrition & Health Education  Live Performances\, Raffles & giveaways
X-ALT-DESC;FMTTYPE=text/html:On Saturday\, November 9\, 2019\, the Hispanic Health Coalition of Houston will present their sixth annual family health expo &iexcl\;Vive tu vida! Get Up! Get Moving!&reg\; at Mason Park. This event promotes Hispanic family physical activity and healthy lifestyles for people of all ages and sizes. ? The Houston event will feature: The All of Us Research Program Traveling Exhibit In addition\, participants will have access to:&bull\;5K Wellness Walk &bull\;Walkaround Elmo from Sesame Street &bull\;Cholesterol\, blood pressure\, glucose &amp\; more! &bull\;Yoga &amp\; Zumba Classes and Tennis Clinics &bull\;Free Trackless Train rides &bull\;Vision &amp\; dental screenings for kids &bull\;Nutrition &amp\; Health Education &bull\;Live Performances\, Raffles &amp\; giveaways
LOCATION:Mason Park 541 South 75th St. Houston\, TX 77023
UID:e.2026.5071967
SEQUENCE:3
DTSTAMP:20260424T063347Z
URL:http://houstoneastend.smartcms.site/events/details/vive-tu-vida-get-up-get-moving-5071967
END:VEVENT

END:VCALENDAR
