BEGIN:VCALENDAR
VERSION:2.0
PRODID:-//ChamberMaster//Event Calendar 2.0//EN
METHOD:PUBLISH
X-PUBLISHED-TTL:P3D
REFRESH-INTERVAL:P3D
CALSCALE:GREGORIAN
BEGIN:VEVENT
DTSTART:20180314T133000Z
DTEND:20180314T153000Z
X-MICROSOFT-CDO-ALLDAYEVENT:FALSE
SUMMARY:Unstuck! Preparing Your Team for the Next Level
DESCRIPTION:One of the fastest ways to grow profits in any business is to get everyone working towards a common goal as a committed team. A cohesive system and set of goals will drive results through the roof! After attending this\, you'll never refer to your "TEAM" as your 'staff' again.
X-ALT-DESC;FMTTYPE=text/html:One of the fastest ways to grow profits in any business is to get everyone working towards a common goal as a committed team. A cohesive system and set of goals will drive results through the roof! After attending this\, you&#39\;ll never refer to your &quot\;TEAM&quot\; as your &#39\;staff&#39\; again.
LOCATION:Houston East End Chamber of Commerce\, 550 Gulfgate Center Mall Houston\, TX 77087
UID:e.2026.5069055
SEQUENCE:3
DTSTAMP:20260425T162920Z
URL:http://houstoneastend.smartcms.site/events/details/unstuck-preparing-your-team-for-the-next-level-03-14-2018-5069055
END:VEVENT

END:VCALENDAR
