BEGIN:VCALENDAR
VERSION:2.0
PRODID:-//ChamberMaster//Event Calendar 2.0//EN
METHOD:PUBLISH
X-PUBLISHED-TTL:P3D
REFRESH-INTERVAL:P3D
CALSCALE:GREGORIAN
BEGIN:VEVENT
DTSTART:20180622T200000Z
DTEND:20180623T010000Z
X-MICROSOFT-CDO-ALLDAYEVENT:FALSE
SUMMARY:Turn Up With Your Pup!
DESCRIPTION:****Non Chamber Event****\n\n\n\nTurn Up with Your Pup is a party WITH your pooch and FOR your pooch. Raising money for the Houston SPCA\, this free event will include a variety of entertainment that will keep both humans and pets amused. \n\n\n\nGames\, music\, a photo contest\, and a whole lot of EaDo goodies will keep this party jumpin' and your pup's tail waggin'.\n\n\n\nAttendees are encouraged to:\n\n  Enjoy a beer \n\n  Chow down on some award-winning BBQ \n\n  Shop the local vendors\n\n\n\nAll while your pup takes a dip in the dog pool and meets some new puppy pals. Don't have a pup to turn up with??\n\n\n\nGet your tail over here\; we'll have pets for adoption! More information to come soon! Head over to our website for more information TurnUpwithYourPup.com!
X-ALT-DESC;FMTTYPE=text/html:<span style="color: rgb(51\, 51\, 51)\; font-family: sans-serif\, Arial\, Verdana\, &quot\;Trebuchet MS&quot\;\; font-size: 13px\; background-color: rgb(255\, 255\, 255)\;">****Non Chamber Event**</span><span style="color: rgb(51\, 51\, 51)\; font-family: sans-serif\, Arial\, Verdana\, &quot\;Trebuchet MS&quot\;\; font-size: 13px\; background-color: rgb(255\, 255\, 255)\;">**</span><br />\n<br />\nTurn Up with Your Pup is a party WITH your pooch and FOR your pooch. Raising money for the Houston SPCA\, this free event will include a variety of entertainment that will keep both humans and pets amused.&nbsp\;<br />\n<br />\nGames\, music\, a photo contest\, and a whole lot of EaDo goodies will keep this party jumpin&rsquo\; and your pup&rsquo\;s tail waggin&rsquo\;.<br />\n<br />\nAttendees are encouraged to:<br />\n&bull\; Enjoy a beer&nbsp\;<br />\n&bull\; Chow down on some award-winning BBQ&nbsp\;<br />\n&bull\; Shop the local vendors<br />\n<br />\nAll while your pup takes a dip in the dog pool and meets some new puppy pals. Don&#39\;t have a pup to turn up with??<br />\n<br />\nGet your tail over here\; we&#39\;ll have pets for adoption! More information to come soon! Head over to our website for more information <a href="https://www.turnupwithyourpup.com">TurnUpwithYourPup.com</a>!
LOCATION:3420 Rusk Street\, Houston\, Texas 77003
UID:e.2026.5070095
SEQUENCE:3
DTSTAMP:20260425T125807Z
URL:http://houstoneastend.smartcms.site/events/details/turn-up-with-your-pup-5070095
END:VEVENT

END:VCALENDAR
