BEGIN:VCALENDAR
VERSION:2.0
PRODID:-//ChamberMaster//Event Calendar 2.0//EN
METHOD:PUBLISH
X-PUBLISHED-TTL:P3D
REFRESH-INTERVAL:P3D
CALSCALE:GREGORIAN
BEGIN:VEVENT
DTSTART;VALUE=DATE:20191123
DTEND;VALUE=DATE:20191124
TRANSP:TRANSPARENT
X-MICROSOFT-CDO-ALLDAYEVENT:TRUE
SUMMARY:THE WAY OUT WOMEN'S CENTER - 2019 THANKS-FOR-GIVING
DESCRIPTION:Complete Thanksgiving Dinner \n\nMotorcycle Raffle\n\n50/50 Raffle\n\nLive Auction\n\nLive Music by The Texas Retreads\n\nVolleyball Tournament\n\nSpecial Guest Speaker from Las Vegas\, NV
X-ALT-DESC;FMTTYPE=text/html:Complete Thanksgiving Dinner&nbsp\;<br />\nMotorcycle Raffle<br />\n50/50 Raffle<br />\nLive Auction<br />\nLive Music by The Texas Retreads<br />\nVolleyball Tournament<br />\nSpecial Guest Speaker from Las Vegas\, NV<br />\n<br />\n&nbsp\;
LOCATION:Walter Hall Park 807 S HWY 3 N\, League City\, TX 77573
UID:e.2026.5071966
SEQUENCE:3
DTSTAMP:20260424T063351Z
URL:http://houstoneastend.smartcms.site/events/details/the-way-out-women-s-center-2019-thanks-for-giving-5071966
END:VEVENT

END:VCALENDAR
