BEGIN:VCALENDAR
VERSION:2.0
PRODID:-//ChamberMaster//Event Calendar 2.0//EN
METHOD:PUBLISH
X-PUBLISHED-TTL:P3D
REFRESH-INTERVAL:P3D
CALSCALE:GREGORIAN
BEGIN:VEVENT
DTSTART:20210617T160000Z
DTEND:20210617T173000Z
X-MICROSOFT-CDO-ALLDAYEVENT:FALSE
SUMMARY:The Construction Industry and Government Contracts - New Growth Engine for the East End
DESCRIPTION:REGISTER TO ATTEND HERE\n\n\n\nPanel Discussion\n\nJoin our panel discussion with prominent government entities\, prime contractors\, and small businesses that together deliver successful projects. Learn about:\n\n	Current and upcoming opportunities\n	Best practices for doing business and the procurement process\n	Requirements and resources necessary for the next steps\n\nThese Industry Thought Leaders will deliver an interactive and engaging session with plenty of time for questions and answers - certainly\, an event you don't want to miss!\n\n\n\nPanelist:\n\n\n\nF. Linelle Clark\, Ph.D\, Director for Historically Underutilized Business (HUB) Operations\n\nUniversity of Houston\n\n\n\nChristopher Burton\, CTPM\, CTCM\, C.P.M.\, CPSM\, MBA\, CPPO\, Director\, Procurement Operations\n\nHouston Community College\n\n\n\nShaun McGowan\, HUB and Small Business Manager\n\nUTHealth\n\n\n\nTony Henshaw\, Principal\n\nThe Henshaw Group\n\n\n\nJason Fuller\, Vice President   Houston\n\nManhattan Construction Group
X-ALT-DESC;FMTTYPE=text/html:<a href="https://us02web.zoom.us/webinar/register/WN_xVIHWSIfTau9k33147gOkw"><span style="font-size: 24px\;">REGISTER TO ATTEND HERE</span></a><br />\n<br />\n<span style="box-sizing: border-box\; font-size: 20px\;"><strong style="box-sizing: border-box\;"><span style="box-sizing: border-box\; color: rgb(0\, 128\, 128)\;"><span style="box-sizing: border-box\; font-family: arial\, helvetica\, sans-serif\;">Panel Discussion</span></span></strong></span><br />\n<span style="box-sizing: border-box\; font-family: arial\, helvetica\, sans-serif\;">Join our panel discussion with prominent government entities\, prime contractors\, and small businesses that together deliver successful projects. Learn about:</span>\n<ul style="box-sizing: border-box\; margin-top: 0px\; margin-bottom: 10px\; letter-spacing: 0.5px\; color: rgb(85\, 85\, 85)\; font-family: Raleway\, sans-serif\; font-size: 16px\; background-color: rgb(243\, 243\, 243)\;">\n	<li style="box-sizing: border-box\;"><span style="box-sizing: border-box\; font-family: arial\, helvetica\, sans-serif\;">Current and upcoming opportunities</span></li>\n	<li style="box-sizing: border-box\;"><span style="box-sizing: border-box\; font-family: arial\, helvetica\, sans-serif\;">Best practices for doing business and the procurement process</span></li>\n	<li style="box-sizing: border-box\;"><span style="box-sizing: border-box\; font-family: arial\, helvetica\, sans-serif\;">Requirements and resources necessary for the next steps</span></li>\n</ul>\n<span style="box-sizing: border-box\; font-family: arial\, helvetica\, sans-serif\;">These Industry Thought Leaders will deliver an interactive and engaging session with plenty of time for questions and answers - certainly\, an event you don&rsquo\;t want to miss!</span><br />\n<br />\n<span style="box-sizing: border-box\; font-family: arial\, helvetica\, sans-serif\;">Panelist:</span><br />\n<br />\n<span style="box-sizing: border-box\; font-family: arial\, helvetica\, sans-serif\;"><strong style="box-sizing: border-box\;">F. Linelle Clark\, Ph.D\, Director for H<span style="font-family:arial\;">isto</span>rically Underutilized Business (HUB) Operations</strong></span><br />\n<span style="box-sizing: border-box\; font-family: arial\, helvetica\, sans-serif\;">University of Houston</span><br />\n<br />\n<strong>Christopher Burton\, CTPM\, CTCM\, C.P.M.\, CPSM\, MBA\, CPPO\,&nbsp\;Director\, Procurement Operations</strong><br />\n<span style="box-sizing: border-box\; font-family: arial\, helvetica\, sans-serif\;">Houston Community College</span><br />\n<br />\n<span style="box-sizing: border-box\; font-family: arial\, helvetica\, sans-serif\;"><strong style="box-sizing: border-box\;">Shaun McGowan\, HUB and Small Business Manager</strong></span><br />\n<span style="box-sizing: border-box\; font-family: arial\, helvetica\, sans-serif\;">UTHealth</span><br />\n<br />\n<span style="box-sizing: border-box\; font-family: arial\, helvetica\, sans-serif\;"><strong style="box-sizing: border-box\;">Tony Henshaw\, Principal</strong></span><br />\n<span style="box-sizing: border-box\; font-family: arial\, helvetica\, sans-serif\;">The Henshaw Group</span><br />\n<br />\n<span style="box-sizing: border-box\; font-family: arial\, helvetica\, sans-serif\;"><strong style="box-sizing: border-box\;">Jason Fuller\, Vice President &ndash\; Houston</strong></span><br />\n<span style="box-sizing: border-box\; font-family: arial\, helvetica\, sans-serif\;">Manhattan Construction Group</span><br />\n&nbsp\;
LOCATION:
UID:e.2026.5072286
SEQUENCE:3
DTSTAMP:20260422T213010Z
URL:http://houstoneastend.smartcms.site/events/details/the-construction-industry-and-government-contracts-new-growth-engine-for-the-east-end-5072286
END:VEVENT

END:VCALENDAR
