BEGIN:VCALENDAR
VERSION:2.0
PRODID:-//ChamberMaster//Event Calendar 2.0//EN
METHOD:PUBLISH
X-PUBLISHED-TTL:P3D
REFRESH-INTERVAL:P3D
CALSCALE:GREGORIAN
BEGIN:VEVENT
DTSTART:20191005T120000Z
DTEND:20191005T160000Z
X-MICROSOFT-CDO-ALLDAYEVENT:FALSE
SUMMARY:2019 Susan G. Komen Houston Race for the Cure
DESCRIPTION:REGISTER AND JOIN\n\nJoin us on Saturday\, October 5th as we Race down Allen Parkway to FUND the Cure. Komen Houston is on a mission - that no one should die from breast cancer. Join our army of survivors as we raise funds to provide local breast health services and facilitate cutting-edge research to find the cures for breast cancer.\n\n\n\nWhen you come out and show your support\, together\, we ARE creating more survivors.\n\n\n\n\n\nBECOME A SPONSOR\n\nEach year\, sponsorship of the Susan G. Komen Houston Race for the Cure  provides the support necessary to fund breast cancer and community education\, as well as screening and treatment initiatives throughout local service areas to help those in need.\n\n\n\nWe invite your organization to become a sponsor for our event and take action in the fight against breast cancer. Show that you are More Than Pink  by making a direct impact and helping us end breast cancer forever.\n\n\n\nSponsorship Benefits\n\nYour support is critical to our local efforts. When your organization invests in a Race for the Cure  sponsorship\, you invest in your community. You invest in the lives of your family\, colleagues\, employees\, neighbors and friends.\n\n\n\nIn addition\, sponsorship also provides a unique opportunity to showcase your products\, promote your services\, connect to a loyal customer base or new audience\, build employee engagement in the community\, and demonstrate your commitment to help us find the cures.\n\n\n\nGet Started\n\nClick here to view our 2019 Komen Houston Race for the Cure  Sponsor Packet. \n\n\n\nFor more information about how to become a sponsor\, and to discuss your marketing goals and objectives\, please contact Kristen Barley kbarley@komen-houston.org or 713-783-9188 x103.
X-ALT-DESC;FMTTYPE=text/html:<span style="color:#C60070"><span style="font-family:arial\,sans-serif"><span style="font-size:18.0pt">REGISTER AND JOIN</span></span></span><br />\n<span style="color:black"><span style="font-family:helvetica\,sans-serif"><span style="font-size:12.0pt">Join us on Saturday\, October 5th as we Race down Allen Parkway to FUND the Cure.&nbsp\;Komen Houston is on a mission - that no one should die from breast cancer. Join our army of survivors as we raise funds to provide local breast health services and facilitate cutting-edge research to find the cures for breast cancer.<br />\n<br />\nWhen you come out and show your support\, together\, we ARE creating more survivors.</span></span></span><br />\n<br />\n<br />\n<span style="color:#C60070"><span style="font-family:arial\,sans-serif"><span style="font-size:18.0pt">BECOME A SPONSOR</span></span></span><br />\n<span style="color:black"><span style="font-family:helvetica\,sans-serif"><span style="font-size:12.0pt">Each year\, sponsorship of the Susan G. Komen Houston Race for the Cure&reg\; provides the support necessary to fund breast cancer and community education\, as well as screening and treatment initiatives throughout local service areas to help those in need.</span></span></span><br />\n<br />\n<span style="color:black"><span style="font-family:helvetica\,sans-serif"><span style="font-size:12.0pt">We invite your organization to become a sponsor for our event and take action in the fight against breast cancer. Show that you are</span></span></span><span style="color:#333333"><span style="font-family:arial\,sans-serif"><span style="font-size:10.0pt">&nbsp\;<strong>More Than&nbsp\;</strong></span></span></span><strong><span style="color:#E877AE"><span style="font-family:arial\,sans-serif"><span style="font-size:10.0pt">Pink</span></span></span></strong><strong><span style="color:#333333"><span style="font-family:arial\,sans-serif"><span style="font-size:10.0pt">&trade\;</span></span></span></strong>&nbsp\;<span style="color:black"><span style="font-family:helvetica\,sans-serif"><span style="font-size:12.0pt">by making a direct impact and helping us end breast cancer forever.</span></span></span><br />\n<br />\n<strong><span style="color:#333333"><span style="font-family:arial\,sans-serif"><span style="font-size:18.0pt">Sponsorship Benefits</span></span></span></strong><br />\n<span style="color:black"><span style="font-family:helvetica\,sans-serif"><span style="font-size:12.0pt">Your support is critical to our local efforts. When your organization invests in a Race for the Cure&reg\;&nbsp\;sponsorship\, you invest in your community. You invest in the lives of your family\, colleagues\, employees\, neighbors and friends.</span></span></span><br />\n<br />\n<span style="color:black"><span style="font-family:helvetica\,sans-serif"><span style="font-size:12.0pt">In addition\, sponsorship also provides a unique opportunity to showcase your products\, promote your services\, connect to a loyal customer base or new audience\, build employee engagement in the community\, and demonstrate your commitment to help us find the cures.</span></span></span><br />\n<br />\n<strong><span style="color:#333333"><span style="font-family:arial\,sans-serif"><span style="font-size:18.0pt">Get Started</span></span></span></strong><br />\n<span style="color:#333333"><span style="font-family:arial\,sans-serif"><span style="font-size:12.0pt"><a href="http://komen-houston.org/wp-content/uploads/2019/03/2019-RFC-Sponsor-Packet.pdf" target="_blank"><span style="color:#0C90DA"><span style="font-family:inherit\,serif">Click here to view our 2019 Komen Houston Race for the Cure&reg\; Sponsor Packet</span></span></a>.&nbsp\;</span></span></span><br />\n<br />\n<span style="color:black"><span style="font-family:helvetica\,sans-serif"><span style="font-size:12.0pt">For more information about how to become a sponsor\, and to discuss your marketing goals and objectives\, please contact Kristen Barley kbarley@komen-houston.org or 713-783-9188 x103</span></span></span><span style="color:#333333"><span style="font-family:arial\,sans-serif"><span style="font-size:10.0pt">.</span></span></span><br />\n<br />\n&nbsp\;
LOCATION:Sam Houston Park\, 1000 Bagby St\, Houston\, TX 77002
UID:e.2026.5071615
SEQUENCE:3
DTSTAMP:20260424T081008Z
URL:http://houstoneastend.smartcms.site/events/details/susan-g-komen-houston-race-for-the-cure-10-05-2019-5071615
END:VEVENT

END:VCALENDAR
