BEGIN:VCALENDAR
VERSION:2.0
PRODID:-//ChamberMaster//Event Calendar 2.0//EN
METHOD:PUBLISH
X-PUBLISHED-TTL:P3D
REFRESH-INTERVAL:P3D
CALSCALE:GREGORIAN
BEGIN:VEVENT
DTSTART:20250228T180000Z
DTEND:20250228T210000Z
X-MICROSOFT-CDO-ALLDAYEVENT:FALSE
SUMMARY:Spring '25 Davies ALL Business Majors Career & Internship Fair\, Feb. 28
DESCRIPTION:EMPLOYERS:  Connect with Houston Talent at UHD! Whether you want to reach BBA's\, MPAC or MBA's\, recruit interns for a pipeline of recruiting or hire from the next graduating senior class\, the Davies Career Center offers you this opportunity to connect with Houston talent at UHD!\n\nYou are invited to attend the UHD Marilyn Davies College of Business All Business Majors Internship & Career Fair on Friday\, February 28\, 2025\, 12PM-3PM.\n\n\n\nPlease note\, this career fair is for full-time\, career-level and internship positions.\n\n\n\nSTUDENTS:  Connect with employers offering internships & full-time\, professional-level roles.\n\nOur degrees/majors include:\n\nUNDERGRADUATE\n\nBachelor of Business Administration (BBA)\n\nMajors: Accounting\, Finance\, General Business\, Risk Management & Insurance\, International Business\, Management\, Management Information Systems (MIS)\, Marketing\, Human Resource Management and Supply Chain Management.\n\nBachelor of Applied Arts & Sciences (BAAS)\n\nGeneral\, Applied Public Administration & Leadership (APAL)\, Restaurant & Food Service Administration (RFSA)\n\nGRADUATE\n\nGraduate (MPAC\, MBA\, MSM)\n\n\n	Master of Professional Accountancy\n\n	Provides CPA Eligibility\n	MBA\n\n	Tracks: Accounting\, Business Intelligence\, Finance\, General Management\, Human Resources\, International Business\, Investment Management\, Leadership\, Project Management/Process Improvement\, Sales Management & Business Development\, Supply Chain Management.\n	MSM (Master of Security Management)\n\n	Tracks: Cybersecurity\, Enterprise Security
X-ALT-DESC;FMTTYPE=text/html:<p style="box-sizing: border-box\; margin: 0px 0px 10px\; padding: 0px\; border: 0px\; font-size: 14px\; font-family: Roboto\, Helvetica\, Arial\, sans-serif\; vertical-align: baseline\; color: rgb(108\, 108\, 108)\;"><span style="box-sizing: border-box\; font-weight: 700\; margin: 0px\; padding: 0px\; border: 0px\; font-family: inherit\; vertical-align: baseline\;">EMPLOYERS:&nbsp\; Connect with Houston Talent at UHD!</span>&nbsp\;Whether you want to reach BBA&#39\;s\, MPAC or MBA&#39\;s\, recruit interns for a pipeline of recruiting or hire from the next graduating senior class\, the Davies Career Center offers you this opportunity to connect with Houston talent at UHD!</p>\n\n<p style="box-sizing: border-box\; margin: 0px 0px 10px\; padding: 0px\; border: 0px\; font-size: 14px\; font-family: Roboto\, Helvetica\, Arial\, sans-serif\; vertical-align: baseline\; color: rgb(108\, 108\, 108)\;">You are invited to attend the<span style="box-sizing: border-box\; font-weight: 700\; margin: 0px\; padding: 0px\; border: 0px\; font-family: inherit\; vertical-align: baseline\;">&nbsp\;UHD Marilyn</span>&nbsp\;<span style="box-sizing: border-box\; font-weight: 700\; margin: 0px\; padding: 0px\; border: 0px\; font-family: inherit\; vertical-align: baseline\;">Davies College of Business All Business Majors Internship &amp\; Career Fair</span>&nbsp\;on&nbsp\;<span style="box-sizing: border-box\; font-weight: 700\; margin: 0px\; padding: 0px\; border: 0px\; font-family: inherit\; vertical-align: baseline\;">Friday\, February 28\, 2025\, 12PM-3PM</span>.<br style="box-sizing: border-box\;" />\n<br style="box-sizing: border-box\;" />\nPlease note\, this career fair is for full-time\, career-level and internship positions.<br style="box-sizing: border-box\;" />\n<br style="box-sizing: border-box\;" />\n<span style="box-sizing: border-box\; font-weight: 700\; margin: 0px\; padding: 0px\; border: 0px\; font-family: inherit\; vertical-align: baseline\;">STUDENTS:&nbsp\; Connect with employers offering internships &amp\; full-time\, professional-level roles.</span></p>\n\n<p style="box-sizing: border-box\; margin: 0px 0px 10px\; padding: 0px\; border: 0px\; font-size: 14px\; font-family: Roboto\, Helvetica\, Arial\, sans-serif\; vertical-align: baseline\; color: rgb(108\, 108\, 108)\;"><span style="box-sizing: border-box\; font-weight: 700\; margin: 0px\; padding: 0px\; border: 0px\; font-family: inherit\; vertical-align: baseline\;">Our degrees/majors include:</span></p>\n\n<p style="box-sizing: border-box\; margin: 0px 0px 10px\; padding: 0px\; border: 0px\; font-size: 14px\; font-family: Roboto\, Helvetica\, Arial\, sans-serif\; vertical-align: baseline\; color: rgb(108\, 108\, 108)\;"><span style="box-sizing: border-box\; font-weight: 700\; margin: 0px\; padding: 0px\; border: 0px\; font-family: inherit\; vertical-align: baseline\;">UNDERGRADUATE</span></p>\n\n<p style="box-sizing: border-box\; margin: 0px 0px 10px\; padding: 0px\; border: 0px\; font-size: 14px\; font-family: Roboto\, Helvetica\, Arial\, sans-serif\; vertical-align: baseline\; color: rgb(108\, 108\, 108)\;"><span style="box-sizing: border-box\; font-weight: 700\; margin: 0px\; padding: 0px\; border: 0px\; font-family: inherit\; vertical-align: baseline\;"><a href="https://www.uhd.edu/academics/business/Pages/default.aspx" rel="noopener" style="box-sizing: border-box\; color: rgb(0\, 119\, 255)\; text-decoration-line: none\; background-color: transparent\; margin: 0px\; padding: 0px\; border: 0px\; font-size: 13px\; font-family: inherit\; vertical-align: baseline\; line-height: 20px\;" target="_blank">Bachelor of Business Administration (BBA)</a></span><br style="box-sizing: border-box\;" />\n<span style="box-sizing: border-box\; font-weight: 700\; margin: 0px\; padding: 0px\; border: 0px\; font-family: inherit\; vertical-align: baseline\;">Majors:</span>&nbsp\;Accounting\, Finance\, General Business\, Risk Management &amp\; Insurance\, International Business\, Management\, Management Information Systems (MIS)\, Marketing\, Human Resource Management and Supply Chain Management.</p>\n\n<p style="box-sizing: border-box\; margin: 0px 0px 10px\; padding: 0px\; border: 0px\; font-size: 14px\; font-family: Roboto\, Helvetica\, Arial\, sans-serif\; vertical-align: baseline\; color: rgb(108\, 108\, 108)\;"><a href="https://uhd.edu/academics/business/undergraduate-programs/applied-administration/index.aspx" rel="noopener" style="box-sizing: border-box\; color: rgb(0\, 119\, 255)\; text-decoration-line: none\; background-color: transparent\; margin: 0px\; padding: 0px\; border: 0px\; font-size: 13px\; font-family: inherit\; vertical-align: baseline\; line-height: 20px\;" target="_blank"><span style="box-sizing: border-box\; font-weight: 700\; margin: 0px\; padding: 0px\; border: 0px\; font-family: inherit\; vertical-align: baseline\;">Bachelor of Applied Arts &amp\; Sciences (BAAS)</span></a><br style="box-sizing: border-box\;" />\nGeneral\, Applied Public Administration &amp\; Leadership (APAL)\, Restaurant &amp\; Food Service Administration (RFSA)</p>\n\n<p style="box-sizing: border-box\; margin: 0px 0px 10px\; padding: 0px\; border: 0px\; font-size: 14px\; font-family: Roboto\, Helvetica\, Arial\, sans-serif\; vertical-align: baseline\; color: rgb(108\, 108\, 108)\;"><span style="box-sizing: border-box\; font-weight: 700\; margin: 0px\; padding: 0px\; border: 0px\; font-family: inherit\; vertical-align: baseline\;">GRADUATE</span></p>\n\n<p style="box-sizing: border-box\; margin: 0px 0px 10px\; padding: 0px\; border: 0px\; font-size: 14px\; font-family: Roboto\, Helvetica\, Arial\, sans-serif\; vertical-align: baseline\; color: rgb(108\, 108\, 108)\;"><a href="https://www.uhd.edu/academics/business/graduate-programs/Pages/default.aspx" rel="noopener" style="box-sizing: border-box\; color: rgb(0\, 119\, 255)\; text-decoration-line: none\; background-color: transparent\; margin: 0px\; padding: 0px\; border: 0px\; font-size: 13px\; font-family: inherit\; vertical-align: baseline\; line-height: 20px\;" target="_blank"><span style="box-sizing: border-box\; font-weight: 700\; margin: 0px\; padding: 0px\; border: 0px\; font-family: inherit\; vertical-align: baseline\;">Graduate (MPAC\, MBA\, MSM)</span></a></p>\n\n<ul style="box-sizing: border-box\; margin: 10px 0px\; padding-right: 0px\; padding-left: 30px\; border: 0px\; font-size: 14px\; font-family: Roboto\, Helvetica\, Arial\, sans-serif\; vertical-align: baseline\; list-style-position: initial\; list-style-image: initial\; color: rgb(108\, 108\, 108)\;">\n	<li style="box-sizing: border-box\; margin: 0px\; padding: 0px\; border: 0px\; font-family: inherit\; vertical-align: baseline\;"><span style="box-sizing: border-box\; font-weight: 700\; margin: 0px\; padding: 0px\; border: 0px\; font-family: inherit\; vertical-align: baseline\;"><a href="https://www.uhd.edu/academics/business/graduate-programs/master-professional-accountancy/Pages/default.aspx" rel="noopener" style="box-sizing: border-box\; color: rgb(0\, 119\, 255)\; text-decoration-line: none\; background-color: transparent\; margin: 0px\; padding: 0px\; border: 0px\; font-size: 13px\; font-family: inherit\; vertical-align: baseline\; line-height: 20px\;" target="_blank">Master of Professional Accountancy</a><br style="box-sizing: border-box\;" />\n	Provides CPA Eligibility</span></li>\n	<li style="box-sizing: border-box\; margin: 0px\; padding: 0px\; border: 0px\; font-family: inherit\; vertical-align: baseline\;"><span style="box-sizing: border-box\; font-weight: 700\; margin: 0px\; padding: 0px\; border: 0px\; font-family: inherit\; vertical-align: baseline\;"><a href="https://www.uhd.edu/academics/business/graduate-programs/mba/Pages/default.aspx" rel="noopener" style="box-sizing: border-box\; color: rgb(0\, 119\, 255)\; text-decoration-line: none\; background-color: transparent\; margin: 0px\; padding: 0px\; border: 0px\; font-size: 13px\; font-family: inherit\; vertical-align: baseline\; line-height: 20px\;" target="_blank">MBA</a></span><br style="box-sizing: border-box\;" />\n	<span style="box-sizing: border-box\; font-weight: 700\; margin: 0px\; padding: 0px\; border: 0px\; font-family: inherit\; vertical-align: baseline\;">Tracks:</span>&nbsp\;Accounting\, Business Intelligence\, Finance\, General Management\, Human Resources\, International Business\, Investment Management\, Leadership\, Project Management/Process Improvement\, Sales Management &amp\; Business Development\, Supply Chain Management.</li>\n	<li style="box-sizing: border-box\; margin: 0px\; padding: 0px\; border: 0px\; font-family: inherit\; vertical-align: baseline\;"><span style="box-sizing: border-box\; font-weight: 700\; margin: 0px\; padding: 0px\; border: 0px\; font-family: inherit\; vertical-align: baseline\;"><a href="https://www.uhd.edu/academics/business/graduate-programs/master-security-management/Pages/default.aspx" rel="noopener" style="box-sizing: border-box\; color: rgb(0\, 119\, 255)\; text-decoration-line: none\; background-color: transparent\; margin: 0px\; padding: 0px\; border: 0px\; font-size: 13px\; font-family: inherit\; vertical-align: baseline\; line-height: 20px\;" target="_blank">MSM (Master of Security Management)</a></span><br style="box-sizing: border-box\;" />\n	<span style="box-sizing: border-box\; font-weight: 700\; margin: 0px\; padding: 0px\; border: 0px\; font-family: inherit\; vertical-align: baseline\;">Tracks:</span>&nbsp\;Cybersecurity\, Enterprise Security</li>\n</ul>\n
LOCATION:Room: A300-UHD One Main Building
UID:e.2026.5072673
SEQUENCE:3
DTSTAMP:20260419T155742Z
URL:http://houstoneastend.smartcms.site/events/details/spring-25-davies-all-business-majors-career-internship-fair-feb-28-5072673
END:VEVENT

END:VCALENDAR
