BEGIN:VCALENDAR
VERSION:2.0
PRODID:-//ChamberMaster//Event Calendar 2.0//EN
METHOD:PUBLISH
X-PUBLISHED-TTL:P3D
REFRESH-INTERVAL:P3D
CALSCALE:GREGORIAN
BEGIN:VEVENT
DTSTART:20210331T160000Z
DTEND:20210331T170000Z
X-MICROSOFT-CDO-ALLDAYEVENT:FALSE
SUMMARY:SERJobs Outreach Campaign
DESCRIPTION:REGISTER HERE\n\n\n\nJoin us Wednesday\, March 31\, 2021 for a discussion on how SERJobs is empowering Houston job seekers with barriers to employment through job training and job placement services.  Learn more about SERJobs and they can help you hire in the careers as electricians\, welders\, dental assistants\, logistics coordinators\, commercial truck drivers\, bankers\, and construction workers\, all in high demand in the local employment market.
X-ALT-DESC;FMTTYPE=text/html:<a href="https://us02web.zoom.us/webinar/register/WN_aPTb_1GCQYaB5Xg1Fbm-5A"><span style="font-size:36px\;"><span style="color:#00BAAE\;"><strong>REGISTER HERE</strong></span></span></a><br />\n<br />\nJoin us Wednesday\, March 31\, 2021 for a discussion on how SERJobs is empowering Houston job seekers with barriers to employment through job training and job placement services.&nbsp\; Learn more about SERJobs and they can help you hire in the careers as electricians\, welders\, dental assistants\, logistics coordinators\, commercial truck drivers\, bankers\, and construction workers\, all in high demand in the local employment market.
LOCATION:Zoom
UID:e.2026.5072282
SEQUENCE:3
DTSTAMP:20260423T030602Z
URL:http://houstoneastend.smartcms.site/events/details/serjobs-outreach-campaign-5072282
END:VEVENT

END:VCALENDAR
