BEGIN:VCALENDAR
VERSION:2.0
PRODID:-//ChamberMaster//Event Calendar 2.0//EN
METHOD:PUBLISH
X-PUBLISHED-TTL:P3D
REFRESH-INTERVAL:P3D
CALSCALE:GREGORIAN
BEGIN:VEVENT
DTSTART:20230209T210000Z
DTEND:20230209T220000Z
X-MICROSOFT-CDO-ALLDAYEVENT:FALSE
SUMMARY:Ribbon Cutting - The Joint Chiropractic
DESCRIPTION:Let's celebrate! Please join us for a Ribbon Cutting Ceremony to celebrate the Grand Opening of our new Chamber Member\, The Joint Chiropractic!
X-ALT-DESC;FMTTYPE=text/html:<span style="font-size:14px\;"><span style="font-family:arial\;">Let&#39\;s celebrate! Please join us for a Ribbon Cutting Ceremony to celebrate the Grand Opening of our new Chamber Member\, The Joint Chiropractic!</span></span>
LOCATION:The Joint Chiropractic Gulfgate Center Mall Ste. 735 Houston\, TX 77087
UID:e.2026.5072489
SEQUENCE:3
DTSTAMP:20260421T093041Z
URL:http://houstoneastend.smartcms.site/events/details/ribbon-cutting-the-joint-chiropractic-5072489
END:VEVENT

END:VCALENDAR
