BEGIN:VCALENDAR
VERSION:2.0
PRODID:-//ChamberMaster//Event Calendar 2.0//EN
METHOD:PUBLISH
X-PUBLISHED-TTL:P3D
REFRESH-INTERVAL:P3D
CALSCALE:GREGORIAN
BEGIN:VEVENT
DTSTART:20240912T220000Z
DTEND:20240913T000000Z
X-MICROSOFT-CDO-ALLDAYEVENT:FALSE
SUMMARY:Ribbon Cutting - Tejas Brewery
DESCRIPTION:Please join us on Thursday\, September 12th\, for the Grand Opening and Ribbon Cutting ceremony of Tejas Brewery!\n\n\n\nCome and celebrate the excitement of their grand opening with us and \n\nenjoy light bites\, and the beautiful Houston skyline!\n\n\n\nRibbon Cutting at 5:30pm
X-ALT-DESC;FMTTYPE=text/html:<p>Please join us on Thursday\, September 12th\, for the Grand Opening and Ribbon Cutting ceremony of Tejas Brewery!<br />\n<br />\nCome and celebrate the excitement of their grand opening with us and&nbsp\;<br />\nenjoy light bites\, and the beautiful Houston skyline!<br />\n<br />\nRibbon Cutting&nbsp\;at 5:30pm<br />\n&nbsp\;</p>\n
LOCATION:Tejas Brewery 2101 Summer St. Houston\, TX 77007
UID:e.2026.5072624
SEQUENCE:3
DTSTAMP:20260420T002000Z
URL:http://houstoneastend.smartcms.site/events/details/ribbon-cutting-tejas-brewery-5072624
END:VEVENT

END:VCALENDAR
