BEGIN:VCALENDAR
VERSION:2.0
PRODID:-//ChamberMaster//Event Calendar 2.0//EN
METHOD:PUBLISH
X-PUBLISHED-TTL:P3D
REFRESH-INTERVAL:P3D
CALSCALE:GREGORIAN
BEGIN:VEVENT
DTSTART:20240612T200000Z
DTEND:20240613T000000Z
X-MICROSOFT-CDO-ALLDAYEVENT:FALSE
SUMMARY:Ribbon Cutting - Rukaz Kultura
DESCRIPTION:Please join us for an Open House & Ribbon Cutting celebration!
X-ALT-DESC;FMTTYPE=text/html:<p><span style="font-size:14px\;"><span style="font-family:arial\;">Please join us for an Open House &amp\; Ribbon Cutting celebration!</span></span></p>\n
LOCATION:Rukaz Kultura 5503 Lawndale Street Houston\, TX 77023
UID:e.2026.5072571
SEQUENCE:3
DTSTAMP:20260420T053150Z
URL:http://houstoneastend.smartcms.site/events/details/ribbon-cutting-rukaz-kultura-5072571
END:VEVENT

END:VCALENDAR
