BEGIN:VCALENDAR
VERSION:2.0
PRODID:-//ChamberMaster//Event Calendar 2.0//EN
METHOD:PUBLISH
X-PUBLISHED-TTL:P3D
REFRESH-INTERVAL:P3D
CALSCALE:GREGORIAN
BEGIN:VEVENT
DTSTART:20250227T000000Z
DTEND:20250227T013000Z
X-MICROSOFT-CDO-ALLDAYEVENT:FALSE
SUMMARY:Ribbon Cutting - LOVI LAW Law Office of Virginia Ivanez
DESCRIPTION:Please join us on Wednesday\, February 26th for the 5th Year Anniversary of new chamber member LOVI LAW - Law Office of Virginia Ivanez!\n\n\n\nLet's celebrate with a Ribbon Cutting Ceremony at 7:00pm.\n\n\n\nWe hope you will come and give a warm welcome to our newest member!
X-ALT-DESC;FMTTYPE=text/html:<span style="font-size:12px\;"><span style="font-family:arial\;"><big>Please join us on Wednesday\, February 26th for the 5th Year Anniversary of new chamber member <strong>LOVI LAW - Law Office of Virginia Ivanez!</strong><br />\n<br />\nLet&#39\;s celebrate with a Ribbon Cutting Ceremony at 7:00pm.<br />\n<br />\nWe hope you will come and give a warm welcome to our newest member!</big></span></span><br />\n&nbsp\;
LOCATION:1020 W. Loop N.\, Suite 264 Houston\, TX 77055
UID:e.2026.5072680
SEQUENCE:3
DTSTAMP:20260419T155720Z
URL:http://houstoneastend.smartcms.site/events/details/ribbon-cutting-lovi-law-law-office-of-virginia-ivanez-5072680
END:VEVENT

END:VCALENDAR
