BEGIN:VCALENDAR
VERSION:2.0
PRODID:-//ChamberMaster//Event Calendar 2.0//EN
METHOD:PUBLISH
X-PUBLISHED-TTL:P3D
REFRESH-INTERVAL:P3D
CALSCALE:GREGORIAN
BEGIN:VEVENT
DTSTART:20240424T150000Z
DTEND:20240424T153000Z
X-MICROSOFT-CDO-ALLDAYEVENT:FALSE
SUMMARY:Ribbon Cutting - Community Family Centers
DESCRIPTION:Please join us for a special Ribbon Cutting celebration!  Community Family Centers is happy to announce the completion of their newly renovated parking lot!
X-ALT-DESC;FMTTYPE=text/html:<span style="font-size:14px\;"><span style="font-family:arial\;">Please join us for a special Ribbon Cutting celebration!&nbsp\; Community Family Centers is happy to announce the completion of their newly renovated parking lot!</span></span>
LOCATION:Community Family Centers 7524 Avenue E. Houston\, TX 77012
UID:e.2026.5072572
SEQUENCE:3
DTSTAMP:20260420T100321Z
URL:http://houstoneastend.smartcms.site/events/details/ribbon-cutting-community-family-centers-5072572
END:VEVENT

END:VCALENDAR
