BEGIN:VCALENDAR
VERSION:2.0
PRODID:-//ChamberMaster//Event Calendar 2.0//EN
METHOD:PUBLISH
X-PUBLISHED-TTL:P3D
REFRESH-INTERVAL:P3D
CALSCALE:GREGORIAN
BEGIN:VEVENT
DTSTART:20240802T160000Z
DTEND:20240802T180000Z
X-MICROSOFT-CDO-ALLDAYEVENT:FALSE
SUMMARY:Ribbon Cutting - Caroline Lofts
DESCRIPTION:Join us on Friday\, August 2nd for a Ribbon Cutting of new Chamber Member Caroline Lofts! \n\n\n\nCaroline Lofts is a new apartment complex opening in the heart of Midtown offering an affordable\, urban lifestyle. Nestled in between vibrant neighborhoods and Downtown\, it provides residents easy access to enjoy eclectic dining\, entertainment\, and cultural attractions.\n\n \n\nCelebrate in the excitement of their grand opening! The event is from 11:00 a.m. - 1:00 p.m. with the Ribbon Cutting at 11:30 a.m.
X-ALT-DESC;FMTTYPE=text/html:<p color:="" font-size:="" segoe="" ui="">Join us on Friday\, August 2nd&nbsp\;for a Ribbon Cutting of new Chamber Member Caroline Lofts!&nbsp\;<br />\n<br />\nCaroline Lofts is a new apartment complex opening in the heart of Midtown offering an affordable\, urban lifestyle. Nestled in between vibrant neighborhoods and Downtown\, it provides residents easy access to enjoy eclectic dining\, entertainment\, and cultural attractions.<br />\n&nbsp\;<br />\nCelebrate in the excitement of their grand opening! The event is from 11:00 a.m. -&nbsp\;1:00 p.m. with the Ribbon Cutting at 11:30 a.m.</p>\n
LOCATION:2515 Caroline St. Houston\, TX 77004
UID:e.2026.5072596
SEQUENCE:3
DTSTAMP:20260420T021024Z
URL:http://houstoneastend.smartcms.site/events/details/ribbon-cutting-caroline-lofts-5072596
END:VEVENT

END:VCALENDAR
