BEGIN:VCALENDAR
VERSION:2.0
PRODID:-//ChamberMaster//Event Calendar 2.0//EN
METHOD:PUBLISH
X-PUBLISHED-TTL:P3D
REFRESH-INTERVAL:P3D
CALSCALE:GREGORIAN
BEGIN:VEVENT
DTSTART:20230829T150000Z
DTEND:20230829T190000Z
X-MICROSOFT-CDO-ALLDAYEVENT:FALSE
SUMMARY:Ribbon Cutting - Breakfast Brothers Express
DESCRIPTION:Let's celebrate! Please join us in welcoming Breakfast Brothers Express to the Houston East End Chamber of Commerce with a Ribbon Cutting ceremony.
X-ALT-DESC;FMTTYPE=text/html:Let&#39\;s celebrate! Please join us in welcoming Breakfast Brothers Express to the Houston East End Chamber of Commerce with a Ribbon Cutting ceremony.<br />\n<br />\n&nbsp\;
LOCATION:Breakfast Brothers Express 2616 Blodgett St. Houston\, TX 77004
UID:e.2026.5072514
SEQUENCE:3
DTSTAMP:20260421T001630Z
URL:http://houstoneastend.smartcms.site/events/details/ribbon-cutting-breakfast-brothers-express-5072514
END:VEVENT

END:VCALENDAR
