BEGIN:VCALENDAR
VERSION:2.0
PRODID:-//ChamberMaster//Event Calendar 2.0//EN
METHOD:PUBLISH
X-PUBLISHED-TTL:P3D
REFRESH-INTERVAL:P3D
CALSCALE:GREGORIAN
BEGIN:VEVENT
DTSTART:20210303T150000Z
DTEND:20210303T210000Z
X-MICROSOFT-CDO-ALLDAYEVENT:FALSE
SUMMARY:Port Houston One-on-One's
DESCRIPTION:The Houston East End Chamber of Commerce will be hosting\n\nPort Houston One on One Meetings (Virtual)\n\nWednesday\, March 3\, 2021 9 am   3 pm\n\n30-minute appointments Meeting Objectives\n\n  Meet with Port Houston (PH) Staff to discuss prospective business opportunities and how to do business with the Port.\n\n  Learn about the PH Small Business Program and its benefits for local small businesses.\n\n  Hear about training opportunities and other resources available to small businesses.\n\n  Discuss your company's scope of work and capabilities.\n\n\n\nClick Here for more information on how to register for this program!
X-ALT-DESC;FMTTYPE=text/html:<div>The Houston East End Chamber of Commerce will be hosting</div>\n\n<div>Port Houston One on One Meetings (Virtual)<br />\nWednesday\, March 3\, 2021 9 am &ndash\; 3 pm<br />\n30-minute appointments Meeting Objectives<br />\n&bull\; Meet with Port Houston (PH) Staff to discuss prospective business opportunities and how to do business with the Port.<br />\n&bull\; Learn about the PH Small Business Program and its benefits for local small businesses.<br />\n&bull\; Hear about training opportunities and other resources available to small businesses.<br />\n&bull\; Discuss your company&rsquo\;s scope of work and capabilities.<br />\n<br />\n<a href="https://chambermaster.blob.core.windows.net/userfiles/UserFiles/chambers/2026/File/PortFlyer1-on-12021.pdf">Click Here</a> for more information on how to register for&nbsp\;this program!</div>\n
LOCATION:
UID:e.2026.5072276
SEQUENCE:3
DTSTAMP:20260423T030520Z
URL:http://houstoneastend.smartcms.site/events/details/port-houston-one-on-one-s-5072276
END:VEVENT

END:VCALENDAR
