BEGIN:VCALENDAR
VERSION:2.0
PRODID:-//ChamberMaster//Event Calendar 2.0//EN
METHOD:PUBLISH
X-PUBLISHED-TTL:P3D
REFRESH-INTERVAL:P3D
CALSCALE:GREGORIAN
BEGIN:VEVENT
DTSTART;VALUE=DATE:20240701
DTEND;VALUE=DATE:20240702
TRANSP:TRANSPARENT
X-MICROSOFT-CDO-ALLDAYEVENT:TRUE
SUMMARY:Pinstripes - Summer Tickets
DESCRIPTION:The Summer Ticket at Pinstripes gets you unlimited bowling and bocce\n\nfrom June 1 to July 31\, 2024. Get your game on any day of the week\, at\n\nany time - limited to two hours of gaming per visit.\n\n\n\nOrder the Summer Ticket for $60 per person.\n\n\n\nPurchase Summer Ticket in-store or online at:\n\nhttps://pinstripes.com/the-summer-ticket
X-ALT-DESC;FMTTYPE=text/html:The Summer Ticket at Pinstripes gets you unlimited bowling and bocce<br />\nfrom June 1 to July 31\, 2024. Get your game on any day of the week\, at<br />\nany time - limited to two hours of gaming per visit.<br />\n<br />\nOrder the Summer Ticket for $60 per person.<br />\n<br />\nPurchase Summer Ticket in-store or online at:<br />\nhttps://pinstripes.com/the-summer-ticket
LOCATION:
UID:e.2026.5072597
SEQUENCE:3
DTSTAMP:20260420T034211Z
URL:http://houstoneastend.smartcms.site/events/details/pinstripes-summer-tickets-5072597
END:VEVENT

END:VCALENDAR
