BEGIN:VCALENDAR
VERSION:2.0
PRODID:-//ChamberMaster//Event Calendar 2.0//EN
METHOD:PUBLISH
X-PUBLISHED-TTL:P3D
REFRESH-INTERVAL:P3D
CALSCALE:GREGORIAN
BEGIN:VEVENT
DTSTART;VALUE=DATE:20240701
DTEND;VALUE=DATE:20240702
TRANSP:TRANSPARENT
X-MICROSOFT-CDO-ALLDAYEVENT:TRUE
SUMMARY:Pinstripes - Summer Event Packages
DESCRIPTION:Announcing our exclusive Summer Event Packages\, perfect for groups\n\nof 12-20! Dive into a 2-hour extravaganza between 3-6pm. Select any\n\nof our enticing like Sliders & Beer\, Flatbreads & Wine\, or Starters &\n\nCocktails. Add bowling and bocce for just $20 per person. Let the good\n\ntimes roll!\n\n\n\nTo learn more: https://pinstripes.com/
X-ALT-DESC;FMTTYPE=text/html:Announcing our exclusive Summer Event Packages\, perfect for groups<br />\nof 12-20! Dive into a 2-hour extravaganza between 3-6pm. Select any<br />\nof our enticing like Sliders &amp\; Beer\, Flatbreads &amp\; Wine\, or Starters &amp\;<br />\nCocktails. Add bowling and bocce for just $20 per person. Let the good<br />\ntimes roll!<br />\n<br />\nTo learn more: https://pinstripes.com/
LOCATION:
UID:e.2026.5072598
SEQUENCE:3
DTSTAMP:20260420T034332Z
URL:http://houstoneastend.smartcms.site/events/details/pinstripes-summer-event-packages-5072598
END:VEVENT

END:VCALENDAR
