BEGIN:VCALENDAR
VERSION:2.0
PRODID:-//ChamberMaster//Event Calendar 2.0//EN
METHOD:PUBLISH
X-PUBLISHED-TTL:P3D
REFRESH-INTERVAL:P3D
CALSCALE:GREGORIAN
BEGIN:VEVENT
DTSTART;VALUE=DATE:20240701
DTEND;VALUE=DATE:20240702
TRANSP:TRANSPARENT
X-MICROSOFT-CDO-ALLDAYEVENT:TRUE
SUMMARY:Pinstripes - New Summer Seasonal Cocktail: Summerset Margarita
DESCRIPTION:Introducing the Summerset Margarita\, our vibrant summer\n\nsensation. Delight in the tropical allure of mango infused with a\n\ntantalizing kick of spice\, culminating in a blissful sweet finish.\n\nCrafted to elevate your\n\npatio experience\, this refreshing libation embodies the essence of\n\nsummer\, beckoning guests to savor every sip.\n\n\n\nTo make a reservation\, visit: https://pinstripes.com/
X-ALT-DESC;FMTTYPE=text/html:Introducing the Summerset Margarita\, our vibrant summer<br />\nsensation. Delight in the tropical allure of mango infused with a<br />\ntantalizing kick of spice\, culminating in a blissful sweet finish.<br />\nCrafted to elevate your<br />\npatio experience\, this refreshing libation embodies the essence of<br />\nsummer\, beckoning guests to savor every sip.<br />\n<br />\nTo make a reservation\, visit: https://pinstripes.com/
LOCATION:
UID:e.2026.5072600
SEQUENCE:3
DTSTAMP:20260420T034735Z
URL:http://houstoneastend.smartcms.site/events/details/pinstripes-new-summer-seasonal-cocktail-summerset-margarita-5072600
END:VEVENT

END:VCALENDAR
