BEGIN:VCALENDAR
VERSION:2.0
PRODID:-//ChamberMaster//Event Calendar 2.0//EN
METHOD:PUBLISH
X-PUBLISHED-TTL:P3D
REFRESH-INTERVAL:P3D
CALSCALE:GREGORIAN
BEGIN:VEVENT
DTSTART;VALUE=DATE:20240701
DTEND;VALUE=DATE:20240702
TRANSP:TRANSPARENT
X-MICROSOFT-CDO-ALLDAYEVENT:TRUE
SUMMARY:Pinstripes - July Catering Packages
DESCRIPTION:We've crafted a la carte catering options that are perfect to bring to\n\nyour next BBQ or summer gathering\, all priced at 20% off regular\n\ncatering prices. Choose from summer starters\, sides\, entrees and\n\ndesserts. Available July 1 - 31 only.\n\n\n\nTo learn more\, visit: https://pinstripes.com/takeout-to-go/
X-ALT-DESC;FMTTYPE=text/html:We&rsquo\;ve crafted a la carte catering options that are perfect to bring to<br />\nyour next BBQ or summer gathering\, all priced at 20% off regular<br />\ncatering prices. Choose from summer starters\, sides\, entrees and<br />\ndesserts. Available July 1 - 31 only.<br />\n<br />\nTo learn more\, visit: https://pinstripes.com/takeout-to-go/
LOCATION:
UID:e.2026.5072599
SEQUENCE:3
DTSTAMP:20260420T034348Z
URL:http://houstoneastend.smartcms.site/events/details/pinstripes-july-catering-packages-5072599
END:VEVENT

END:VCALENDAR
