BEGIN:VCALENDAR
VERSION:2.0
PRODID:-//ChamberMaster//Event Calendar 2.0//EN
METHOD:PUBLISH
X-PUBLISHED-TTL:P3D
REFRESH-INTERVAL:P3D
CALSCALE:GREGORIAN
BEGIN:VEVENT
DTSTART:20210607T140000Z
DTEND:20210607T220000Z
X-MICROSOFT-CDO-ALLDAYEVENT:FALSE
SUMMARY:One-on-One with the City of Houston's Office of Business Opportunity
DESCRIPTION:SCHEDULE YOUR APPOINTMENT TODAY! CLICK HERE!\n\nAre you certified to do business with the City of Houston Office of Business Opportunity (OBO)? Click here to register for a one-on-one with an OBO Representative. There are many benefits including: eligibility to participate on goal oriented contracts\, resources to educate\, connect\, and grow certified firms\, and a wide variety of networking opportunities and events.\n\nIn fiscal year 2020 the City of Houston spent close to 3 billion dollars on goods and services (procurements). Over 741 million dollars went to S/MWBE certified firms. Only firms certified by the City of Houston are eligible to fulfill goal requirements on City contracts.
X-ALT-DESC;FMTTYPE=text/html:<p data-pm-slice="1 1 []"><span style="font-size:22px\;"><a href="https://docs.google.com/forms/d/e/1FAIpQLSdEs8CuttmqRkn__t5059SFv9gFYviNdwQW973dur1L7LzvGg/viewform"><strong>SCHEDULE YOUR APPOINTMENT TODAY! CLICK HERE!</strong></a></span><br />\n<span style="font-size:14px\;"><span style="font-family:arial\;">Are you certified to do business with the City of Houston Office of Business Opportunity (OBO)? Click here to register for a one-on-one with an OBO Representative. There are many benefits including: eligibility to participate on goal oriented contracts\, resources to educate\, connect\, and grow certified firms\, and a wide variety of networking opportunities and events.</span></span></p>\n\n<p><span style="font-size:14px\;"><span style="font-family:arial\;">In fiscal year 2020 the City of Houston spent close to 3 billion dollars on goods and services (procurements). Over 741 million dollars went to S/MWBE certified firms.&nbsp\;</span></span><span style="font-size:14px\;"><span style="font-family:arial\;">Only firms certified by the City of Houston are eligible to fulfill goal requirements on City contracts.</span></span></p>\n\n<p style="box-sizing: border-box\; outline: 0px\; color: rgb(85\, 85\, 85)\; font-family: Raleway\, sans-serif\; font-size: 16px\; background-color: rgb(243\, 243\, 243)\;"><br style="box-sizing: border-box\;" />\n&nbsp\;</p>\n
LOCATION:The Houston East End Chamber of Commerce will be hosting One-on-One's with the City of Houston's Office of Business Opportunity (Virtually) Monday\, June 7\, 2021 9 am 5 pm 20-minute appointments
UID:e.2026.5072289
SEQUENCE:3
DTSTAMP:20260422T213052Z
URL:http://houstoneastend.smartcms.site/events/details/one-on-one-with-the-city-of-houston-s-office-of-business-opportunity-5072289
END:VEVENT

END:VCALENDAR
