BEGIN:VCALENDAR
VERSION:2.0
PRODID:-//ChamberMaster//Event Calendar 2.0//EN
METHOD:PUBLISH
X-PUBLISHED-TTL:P3D
REFRESH-INTERVAL:P3D
CALSCALE:GREGORIAN
BEGIN:VEVENT
DTSTART:20231208T000000Z
DTEND:20231208T020000Z
X-MICROSOFT-CDO-ALLDAYEVENT:FALSE
SUMMARY:Night Under the Stars Open House
DESCRIPTION:Discover the Innovative Programs the Campus Offers
X-ALT-DESC;FMTTYPE=text/html:Discover the Innovative Programs the Campus Offers
LOCATION:STEM Building 301 N Drennan St. Houston\, TX 77003
UID:e.2026.5072539
SEQUENCE:3
DTSTAMP:20260420T162436Z
URL:http://houstoneastend.smartcms.site/events/details/night-under-the-stars-open-house-5072539
END:VEVENT

END:VCALENDAR
