BEGIN:VCALENDAR
VERSION:2.0
PRODID:-//ChamberMaster//Event Calendar 2.0//EN
METHOD:PUBLISH
X-PUBLISHED-TTL:P3D
REFRESH-INTERVAL:P3D
CALSCALE:GREGORIAN
BEGIN:VEVENT
DTSTART:20210729T210000Z
DTEND:20210730T000000Z
X-MICROSOFT-CDO-ALLDAYEVENT:FALSE
SUMMARY:MIXER TIME
DESCRIPTION:****Not a Chamber Event****\n\n\n\nOpportunity to network! Open to the public. Please bring your business cards. There will be free massages\, door prizes\, finger foods\, and drinks! \n\n\n\nfollowing COVID protocol
X-ALT-DESC;FMTTYPE=text/html:<span style="color:rgb(57\, 54\, 79)\; font-family:neue plak\,-apple-system\,blinkmacsystemfont\,roboto\,helvetica neue\,helvetica\,tahoma\,arial\,sans-serif\; font-size:14.9333px">****Not a Chamber Event****<br />\n<br />\nOpportunity to network! Open to the public. Please bring your business cards. There will be free massages\, door prizes\, finger foods\, and drinks!&nbsp\;<br />\n<br />\nfollowing&nbsp\;COVID protocol</span>
LOCATION:
UID:e.2026.5072296
SEQUENCE:3
DTSTAMP:20260422T194630Z
URL:http://houstoneastend.smartcms.site/events/details/mixer-time-5072296
END:VEVENT

END:VCALENDAR
