BEGIN:VCALENDAR
VERSION:2.0
PRODID:-//ChamberMaster//Event Calendar 2.0//EN
METHOD:PUBLISH
X-PUBLISHED-TTL:P3D
REFRESH-INTERVAL:P3D
CALSCALE:GREGORIAN
BEGIN:VEVENT
DTSTART:20210624T210000Z
DTEND:20210625T000000Z
X-MICROSOFT-CDO-ALLDAYEVENT:FALSE
SUMMARY:MIXER EVENT
DESCRIPTION:****Not a Chamber Event****\n\n\n\nOpportunity to NETWORK! Open to the public. Please bring your business cards. There will be free massages\, door prizes\, finger food and drinks!\n\n\n\nFollowing COVID protocol
X-ALT-DESC;FMTTYPE=text/html:<span style="color:rgb(57\, 54\, 79)\; font-family:neue plak\,-apple-system\,blinkmacsystemfont\,roboto\,helvetica neue\,helvetica\,tahoma\,arial\,sans-serif\; font-size:14.9333px">****Not a Chamber Event****<br />\n<br />\nOpportunity to NETWORK! Open to the public. Please bring your business cards. There will be free massages\, door prizes\, finger food and drinks!<br />\n<br />\nFollowing COVID protocol</span>
LOCATION:BLUE PRISM FINANCIAL SERVICES 507 N. SAM HOUSTON PKWY E. SUITE 230 HOUSTON\, TEXAS 77060
UID:e.2026.5072295
SEQUENCE:3
DTSTAMP:20260422T212732Z
URL:http://houstoneastend.smartcms.site/events/details/mixer-event-5072295
END:VEVENT

END:VCALENDAR
