BEGIN:VCALENDAR
VERSION:2.0
PRODID:-//ChamberMaster//Event Calendar 2.0//EN
METHOD:PUBLISH
X-PUBLISHED-TTL:P3D
REFRESH-INTERVAL:P3D
CALSCALE:GREGORIAN
BEGIN:VEVENT
DTSTART:20210618T133000Z
DTEND:20210618T150000Z
X-MICROSOFT-CDO-ALLDAYEVENT:FALSE
SUMMARY:Membership Orientation Meeting
DESCRIPTION:The East End Chamber wants to help you grow your business! Learn about cost saving programs and business development strategies and opportunities.\n\n\n\nMeet other businesses working in the East End\, plus\n\n\n	\n	How the Chamber can support your WHY reason for joining\n	\n	\n	Review all the benefits of your membership\n	\n	\n	Learn about all our events\n	\n	\n	FREE Marketing and Promotions\n	\n	\n	Network\, network\, Network\n	\n\n\nSave your seat TODAY!\n\n\n\nFor more information please contact Frances Castaneda Dyess at 713.926.3305 or frances@eecoc.org
X-ALT-DESC;FMTTYPE=text/html:<div style="color: rgb(21\, 27\, 38)\; white-space: pre-wrap\; text-size-adjust: auto\;">\n<p helvetica="" segoe="" style="font-family: -apple-system\, BlinkMacSystemFont\, "><span style="font-size:14px\;"><span style="font-family:arial\;">The East End Chamber wants to help you grow your business! Learn about cost saving programs and business development strategies and opportunities.<br />\n<br />\nMeet other businesses working in the East End\, plus</span></span></p>\n\n<ol style="">\n	<li helvetica="" segoe="" style="font-family: -apple-system\, BlinkMacSystemFont\, ">\n	<p><span style="font-size:14px\;"><span style="font-family:arial\;"><span style="background-image: initial\; background-position: initial\; background-size: initial\; background-repeat: initial\; background-attachment: initial\; background-origin: initial\; background-clip: initial\;">How the Chamber can support your&nbsp\;<strong>WHY&nbsp\;</strong>reason for joining</span></span></span></p>\n	</li>\n	<li style="">\n	<p><span style="font-size:14px\;"><span style="font-family:arial\;"><b>Review all the benefits of your membership</b></span></span></p>\n	</li>\n	<li style="">\n	<p><span style="font-size:14px\;"><span style="font-family:arial\;"><b>Learn about all our events</b></span></span></p>\n	</li>\n	<li style="">\n	<p><span style="font-size:14px\;"><span style="font-family:arial\;"><b>FREE Marketing and Promotions</b></span></span></p>\n	</li>\n	<li style="">\n	<p><span style="font-size:14px\;"><span style="font-family:arial\;"><b>Network\, network\, Network</b></span></span></p>\n	</li>\n</ol>\n\n<p><span style="font-size:14px\;"><span style="font-family:arial\;"><span style="background-image: initial\; background-position: initial\; background-size: initial\; background-repeat: initial\; background-attachment: initial\; background-origin: initial\; background-clip: initial\;"><strong><span style="background-image: initial\; background-position: initial\; background-size: initial\; background-repeat: initial\; background-attachment: initial\; background-origin: initial\; background-clip: initial\;">Save your seat TODAY!</span></strong></span></span></span></p>\n\n<p helvetica="" segoe="" style="font-family: -apple-system\, BlinkMacSystemFont\, "><br />\n<span style="font-size:14px\;"><span style="font-family:arial\;"><span style="color: rgb(21\, 27\, 38)\; white-space: pre-wrap\;">For more information please contact Frances Castaneda Dyess at 713.926.3305 or </span><a href="http://frances@eecoc.org"><span style="color: rgb(21\, 27\, 38)\; white-space: pre-wrap\;"><b>frances@eecoc.org</b></span></a></span></span></p>\n</div>\n
LOCATION:5311 Clinton Dr. Houston\, TX 77020
UID:e.2026.5072249
SEQUENCE:3
DTSTAMP:20260422T212859Z
URL:http://houstoneastend.smartcms.site/events/details/membership-orientation-meeting-5072249
END:VEVENT

END:VCALENDAR
