BEGIN:VCALENDAR
VERSION:2.0
PRODID:-//ChamberMaster//Event Calendar 2.0//EN
METHOD:PUBLISH
X-PUBLISHED-TTL:P3D
REFRESH-INTERVAL:P3D
CALSCALE:GREGORIAN
BEGIN:VEVENT
DTSTART:20210326T133000Z
DTEND:20210326T150000Z
X-MICROSOFT-CDO-ALLDAYEVENT:FALSE
SUMMARY:Membership Orientation Meeting
DESCRIPTION:The East End Chamber wants to help you grow your business! Learn about cost saving programs and business development strategies and opportunities.\n\n\n\nMeet other businesses working in the East End\, plus\n\n\n	How the Chamber can support your WHY reason for joining\n	Review all the benefits of your membership\n	Learn about all our events\n	FREE Marketing and Promotions\n	Network\, network\, Network\n\nSave your seat TODAY!\n\n\n\nFor more information please contact Emily Kelly at 713.926.3305 or chamber@eecoc.org
X-ALT-DESC;FMTTYPE=text/html:<div style="color: rgb(21\, 27\, 38)\; white-space: pre-wrap\; text-size-adjust: auto\;">\n<p helvetica="" segoe="" style="font-family: -apple-system\, BlinkMacSystemFont\, "><span style="font-family: arial\, sans-serif\;"><span style="font-size: 10pt\;">The East End Chamber wants to help you grow your business! Learn about cost saving programs and business development strategies and opportunities.<br />\n<br />\nMeet other businesses working in the East End\, plus</span></span></p>\n\n<ol style="">\n	<li helvetica="" segoe="" style="font-family: -apple-system\, BlinkMacSystemFont\, "><span style="font-family: arial\, sans-serif\;"><span style="font-size: 10pt\;"><span style="background-image: initial\; background-position: initial\; background-size: initial\; background-repeat: initial\; background-attachment: initial\; background-origin: initial\; background-clip: initial\;"><span style="font-family:arial\;"><span style="font-size: 10pt\;">How the Chamber can support your&nbsp\;<strong>WHY&nbsp\;</strong>reason for joining</span></span></span></span></span></li>\n	<li style=""><font face="arial"><span style="font-size: 13.3333px\;"><b>Review all the benefits of your membership</b></span></font></li>\n	<li style=""><font face="arial"><span style="font-size: 13.3333px\;"><b>Learn about all our events</b></span></font></li>\n	<li style=""><font face="arial"><span style="font-size: 13.3333px\;"><b>FREE Marketing and Promotions</b></span></font></li>\n	<li style=""><font face="arial"><span style="font-size: 13.3333px\;"><b>Network\, network\, Network</b></span></font></li>\n</ol>\n<span style="font-family: arial\, sans-serif\;"><span style="font-size: 10pt\;"><span style="background-image: initial\; background-position: initial\; background-size: initial\; background-repeat: initial\; background-attachment: initial\; background-origin: initial\; background-clip: initial\;"><span style="font-family: arial\, sans-serif\;"><span style="font-size: 10pt\;"><span style="font-family: arial\, sans-serif\;"><span style="font-size: 10pt\;"><span style="font-family: arial\, sans-serif\;"><span style="font-size: 10pt\;"><span style="font-family: arial\, sans-serif\;"><span style="font-size: 10pt\;"><span style="font-family: arial\, sans-serif\;"><span style="font-size: 10pt\;"><span style="font-size: 10pt\;"><strong><span style="background-image: initial\; background-position: initial\; background-size: initial\; background-repeat: initial\; background-attachment: initial\; background-origin: initial\; background-clip: initial\;"><span style="font-family: arial\, sans-serif\;"><span style="font-size: 10pt\;">Save your seat TODAY!</span></span></span></strong></span></span></span></span></span></span></span></span></span></span></span></span></span></span>\n\n<p helvetica="" segoe="" style="font-family: -apple-system\, BlinkMacSystemFont\, "><br />\n<span style="color: rgb(21\, 27\, 38)\; font-family: arial\, sans-serif\; font-size: 13.3333px\; white-space: pre-wrap\;">For more information please contact Emily Kelly at <a href="tel:713.926.3305">713.926.3305</a> or </span><span style="font-family:verdana\;"><a class="textEditor-link" data-is-link="mailto:membership@eecoc.org" href="mailto:membership@eecoc.org" rel="noreferrer nofollow" style="color: rgb(20\, 170\, 245)\; cursor: pointer\; text-decoration-line: none\; background-color: transparent\;" target="_blank"><b style="margin: 0px\; padding: 0px\; border: 0px\; font-family: inherit\; vertical-align: baseline\;">chamber@eecoc.org</b></a></span></p>\n</div>\n
LOCATION:Meetings will be held virtually until further notice.
UID:e.2026.5072248
SEQUENCE:3
DTSTAMP:20260423T030533Z
URL:http://houstoneastend.smartcms.site/events/details/membership-orientation-meeting-5072248
END:VEVENT

END:VCALENDAR
