BEGIN:VCALENDAR
VERSION:2.0
PRODID:-//ChamberMaster//Event Calendar 2.0//EN
METHOD:PUBLISH
X-PUBLISHED-TTL:P3D
REFRESH-INTERVAL:P3D
CALSCALE:GREGORIAN
BEGIN:VEVENT
DTSTART:20180411T140000Z
DTEND:20180411T150000Z
X-MICROSOFT-CDO-ALLDAYEVENT:FALSE
SUMMARY:Membership Engagement Committee Meeting
DESCRIPTION:Create new business relationships\, lend your expertise\, help the Chamber and your personal network grow!\n\n\n\nJoin the Membership Engagement Committee and be a part of something fun!\n\nEngaged members are instrumental advocates for the East End Chamber. Be part of our mission of connecting and recruiting members\, corporate members and assisting with engagement for each group!
X-ALT-DESC;FMTTYPE=text/html:<div style="color: rgb(21\, 27\, 38)\; font-family: -apple-system\, BlinkMacSystemFont\, &quot\;Segoe UI&quot\;\, Roboto\, &quot\;Helvetica Neue&quot\;\, Helvetica\, Arial\, sans-serif\; white-space: pre-wrap\;"><strong style="color: rgb(21\, 27\, 38)\; font-family: -apple-system\, BlinkMacSystemFont\, &quot\;Segoe UI&quot\;\, Roboto\, &quot\;Helvetica Neue&quot\;\, Helvetica\, Arial\, sans-serif\; white-space: pre-wrap\;">Create new business relationships\, lend your expertise\, help the Chamber and your personal network grow!</strong><br />\n<br style="color: rgb(21\, 27\, 38)\; font-family: -apple-system\, BlinkMacSystemFont\, &quot\;Segoe UI&quot\;\, Roboto\, &quot\;Helvetica Neue&quot\;\, Helvetica\, Arial\, sans-serif\; white-space: pre-wrap\;" />\nJoin the Membership Engagement Committee and be a part of something fun!</div>\n\n<div style="color: rgb(21\, 27\, 38)\; font-family: -apple-system\, BlinkMacSystemFont\, &quot\;Segoe UI&quot\;\, Roboto\, &quot\;Helvetica Neue&quot\;\, Helvetica\, Arial\, sans-serif\; white-space: pre-wrap\;">Engaged&nbsp\;members are instrumental advocates for the East End Chamber. Be part of our mission of connecting and recruiting members\, corporate members and assisting with engagement for each group!</div>\n
LOCATION:Houston East End Chamber of Commerce Office
UID:e.2026.5070078
SEQUENCE:3
DTSTAMP:20260425T144925Z
URL:http://houstoneastend.smartcms.site/events/details/membership-engagement-committee-meeting-5070078
END:VEVENT

END:VCALENDAR
