BEGIN:VCALENDAR
VERSION:2.0
PRODID:-//ChamberMaster//Event Calendar 2.0//EN
METHOD:PUBLISH
X-PUBLISHED-TTL:P3D
REFRESH-INTERVAL:P3D
CALSCALE:GREGORIAN
BEGIN:VEVENT
DTSTART:20210409T183000Z
DTEND:20210409T193000Z
X-MICROSOFT-CDO-ALLDAYEVENT:FALSE
SUMMARY:Luncheon Committee Meeting
DESCRIPTION:Create new business relationships\, lend your expertise\, help the Chamber and your personal network grow!\n\n\n\nJoin the Luncheon Committee and help plan our major luncheons which help create the great networking opportunities\, making the Chamber a valuable resource to its members!
X-ALT-DESC;FMTTYPE=text/html:<div helvetica="" segoe="" style="color: rgb(21\, 27\, 38)\; font-family: -apple-system\, BlinkMacSystemFont\, " white-space:=""><strong helvetica="" segoe="" style="color: rgb(21\, 27\, 38)\; font-family: -apple-system\, BlinkMacSystemFont\, " white-space:="">Create new business relationships\, lend your expertise\, help the Chamber and your personal network grow!</strong><br />\n<br helvetica="" segoe="" style="color: rgb(21\, 27\, 38)\; font-family: -apple-system\, BlinkMacSystemFont\, " white-space:="" />\nJoin the Luncheon Committee and help plan our major luncheons which help create the great networking opportunities\, making the Chamber a valuable resource to its members!</div>\n
LOCATION:Meetings will be virtual via zoom until further notice.
UID:e.2026.5072227
SEQUENCE:3
DTSTAMP:20260423T012208Z
URL:http://houstoneastend.smartcms.site/events/details/luncheon-committee-meeting-04-09-2021-5072227
END:VEVENT

END:VCALENDAR
