BEGIN:VCALENDAR
VERSION:2.0
PRODID:-//ChamberMaster//Event Calendar 2.0//EN
METHOD:PUBLISH
X-PUBLISHED-TTL:P3D
REFRESH-INTERVAL:P3D
CALSCALE:GREGORIAN
BEGIN:VEVENT
DTSTART:20210327T170000Z
DTEND:20210327T210000Z
X-MICROSOFT-CDO-ALLDAYEVENT:FALSE
SUMMARY:Longhorn Whiskey Launch Event
DESCRIPTION:Gulf Coast Distillers is hosting the launch event of their Longhorn Whiskey on March 27th! ADMISSION IS FREE. There will be a live longhorn to take photos with\, live country music\, local vendors\, as well as food served by our very own Gulf Coast Distillers Food Truck for purchase. And of course\, samples of our Longhorn Straight Texas Rye and Longhorn 100% Straight Texas Corn Whiskies! Stop by and get your hands on a bottle of the first batch of Longhorn Whiskey! We will be donating 15% of sales that day to The Longhorn Project at Johnson Space Center to care for and protect Longhorns. RSVP Today! Our beneficiary\, The Longhorn Project at The Johnson Space Center: For almost a century\, The Longhorn Project\, a 501 (c)(3) nonprofit organization\, located on a 53-acre tract on the premises of NASA's Johnson Space Center\, has blended an award-winning registered Texas longhorn herd with a STEM educational program\, a show team made of selected FFA students that exhibit longhorns at livestock and longhorn shows throughout Texas\, and an environmental program for local high school students. Since 2004\, over 80\,000 3rd - 12th grade students have participated in the educational program. Imagine how student dreams are fueled thanks to their first-hand introduction to agriculture\, livestock\, and space exploration. FOOD: Gulf Coast Distillers Tasting Room VENDORS: Harris County General Store BBQ Co. (Rub + Merch only) MARIAN Jewelry Cowboy World Republic Boots Co. Good Sense Provisions Burn the Wick Rustic Star Boutique
X-ALT-DESC;FMTTYPE=text/html:Gulf Coast Distillers is hosting the launch event of their Longhorn Whiskey on March 27th! ADMISSION IS FREE. There will be a live longhorn to take photos with\, live country music\, local vendors\, as well as food served by our very own Gulf Coast Distillers Food Truck for purchase. And of course\, samples of our Longhorn Straight Texas Rye and Longhorn 100% Straight Texas Corn Whiskies! Stop by and get your hands on a bottle of the first batch of Longhorn Whiskey! We will be donating 15% of sales that day to The Longhorn Project at Johnson Space Center to care for and protect Longhorns. RSVP Today! Our beneficiary\, The Longhorn Project at The Johnson Space Center: For almost a century\, The Longhorn Project\, a 501 (c)(3) nonprofit organization\, located on a 53-acre tract on the premises of NASA&rsquo\;s Johnson Space Center\, has blended an award-winning registered Texas longhorn herd with a STEM educational program\, a show team made of selected FFA students that exhibit longhorns at livestock and longhorn shows throughout Texas\, and an environmental program for local high school students. Since 2004\, over 80\,000 3rd - 12th grade students have participated in the educational program. Imagine how student dreams are fueled thanks to their first-hand introduction to agriculture\, livestock\, and space exploration. FOOD: Gulf Coast Distillers Tasting Room VENDORS: Harris County General Store BBQ Co. (Rub + Merch only) MARIAN Jewelry Cowboy World Republic Boots Co. Good Sense Provisions Burn the Wick Rustic Star Boutique
LOCATION:Gulf Coast Distillers
UID:e.2026.5072279
SEQUENCE:3
DTSTAMP:20260423T030432Z
URL:http://houstoneastend.smartcms.site/events/details/longhorn-whiskey-launch-event-5072279
END:VEVENT

END:VCALENDAR
