BEGIN:VCALENDAR
VERSION:2.0
PRODID:-//ChamberMaster//Event Calendar 2.0//EN
METHOD:PUBLISH
X-PUBLISHED-TTL:P3D
REFRESH-INTERVAL:P3D
CALSCALE:GREGORIAN
BEGIN:VEVENT
DTSTART:20210709T150000Z
DTEND:20210709T160000Z
X-MICROSOFT-CDO-ALLDAYEVENT:FALSE
SUMMARY:Iridium Pharmacy - Ribbon Cutting
DESCRIPTION:Let's celebrate! Please join us in welcoming Iridium Pharmacy to the Houston East End Chamber of Commerce with a Ribbon Cutting ceremony.
X-ALT-DESC;FMTTYPE=text/html:Let&#39\;s celebrate! Please join us in welcoming Iridium Pharmacy to the Houston East End Chamber of Commerce with a Ribbon Cutting ceremony.
LOCATION:Iridium Pharmacy 2240 Navigation Blvd.\, Suite 200 Houston\, TX 77003
UID:e.2026.5072292
SEQUENCE:3
DTSTAMP:20260422T194702Z
URL:http://houstoneastend.smartcms.site/events/details/iridium-pharmacy-ribbon-cutting-5072292
END:VEVENT

END:VCALENDAR
