BEGIN:VCALENDAR
VERSION:2.0
PRODID:-//ChamberMaster//Event Calendar 2.0//EN
METHOD:PUBLISH
X-PUBLISHED-TTL:P3D
REFRESH-INTERVAL:P3D
CALSCALE:GREGORIAN
BEGIN:VEVENT
DTSTART:20210714T160000Z
DTEND:20210714T170000Z
X-MICROSOFT-CDO-ALLDAYEVENT:FALSE
SUMMARY:Harris County General Store BBQ Co. - Ribbon Cutting
DESCRIPTION:Let's celebrate! Please join us in welcoming Harris County General Sore Barbecue Company to the Houston East End Chamber of Commerce with a Ribbon Cutting ceremony.
X-ALT-DESC;FMTTYPE=text/html:<span style="font-size:14px\;"><span style="font-family:arial\;">Let&#39\;s celebrate! Please join us in welcoming Harris County General Sore Barbecue Company to the Houston East End Chamber of Commerce with a Ribbon Cutting ceremony.</span></span>
LOCATION:Harris County General Store Barbecue Company 5434 Lawndale St\, Houston\, TX 77023
UID:e.2026.5072302
SEQUENCE:3
DTSTAMP:20260422T194812Z
URL:http://houstoneastend.smartcms.site/events/details/harris-county-general-store-bbq-co-ribbon-cutting-5072302
END:VEVENT

END:VCALENDAR
