BEGIN:VCALENDAR
VERSION:2.0
PRODID:-//ChamberMaster//Event Calendar 2.0//EN
METHOD:PUBLISH
X-PUBLISHED-TTL:P3D
REFRESH-INTERVAL:P3D
CALSCALE:GREGORIAN
BEGIN:VEVENT
DTSTART:20231110T230000Z
DTEND:20231111T010000Z
X-MICROSOFT-CDO-ALLDAYEVENT:FALSE
SUMMARY:Hammers & Ales
DESCRIPTION:Join us for the ToolBank's annual Happy Hour fundraiser\, Hammers and Ales. This year\, we're excited to host the event at the ToolBank warehouse! Enjoy an evening of mingling with other ToolBankers\, tour our warehouse to learn more about our programs\, participate in our wine pull\, and join our raffle. We'll have Rudy's Bar-B-Q\, cold beer\, and other beverages for all to enjoy!\n\nThis year's Hammers & Ales will also serve as our awards ceremony for our Tool Trot virtual walkathon! The event will kick off at 5pm\, and the Tool Trot Awards will be announced at 6pm.\n\nIf you're interested in signing up for the Tool Trot walkathon\, visit https://secure.givelively.org/event/houston-community-toolbank/tool-trot-2023 for details.
X-ALT-DESC;FMTTYPE=text/html:<p><span style="color:rgb(68\, 68\, 68)\; font-family:roboto\,sans-serif\; font-size:17px">Join us for the ToolBank&rsquo\;s annual Happy Hour fundraiser\, Hammers and Ales. This year\, we&#39\;re excited to host the event at the ToolBank warehouse!&nbsp\;</span><span style="color:rgb(68\, 68\, 68)\; font-family:roboto\,sans-serif\; font-size:17px">Enjoy an evening of mingling with other ToolBankers\, tour our warehouse to learn more about our programs\, participate in our wine pull\, and join our raffle. We&#39\;ll have Rudy&#39\;s Bar-B-Q\, cold beer\, and other beverages for all to enjoy!</span></p>\n\n<p><span style="color:rgb(68\, 68\, 68)\; font-family:roboto\,sans-serif\; font-size:17px">This year&#39\;s Hammers &amp\; Ales will also serve as our awards ceremony for our Tool Trot virtual walkathon! The event will kick off at 5pm\, and the Tool Trot Awards will be announced at 6pm.</span></p>\n\n<p><span style="color:rgb(68\, 68\, 68)\; font-family:roboto\,sans-serif\; font-size:17px">If you&#39\;re interested in signing up for the Tool Trot walkathon\, visit&nbsp\;</span><a href="https://secure.givelively.org/event/houston-community-toolbank/tool-trot-2023" style="box-sizing: border-box\; background-color: transparent\; cursor: pointer\; color: var(--brand-color-links) !important\;">https://secure.givelively.org/event/houston-community-toolbank/tool-trot-2023</a>&nbsp\;for details.</p>\n
LOCATION:Houston ToolBank Warehouse 1215 Gazin St Houston\, TX 77020
UID:e.2026.5072536
SEQUENCE:3
DTSTAMP:20260420T190655Z
URL:http://houstoneastend.smartcms.site/events/details/hammers-ales-5072536
END:VEVENT

END:VCALENDAR
