BEGIN:VCALENDAR
VERSION:2.0
PRODID:-//ChamberMaster//Event Calendar 2.0//EN
METHOD:PUBLISH
X-PUBLISHED-TTL:P3D
REFRESH-INTERVAL:P3D
CALSCALE:GREGORIAN
BEGIN:VEVENT
DTSTART:20250405T150000Z
DTEND:20250405T210000Z
X-MICROSOFT-CDO-ALLDAYEVENT:FALSE
SUMMARY:Grand Opening of Finca Tres Robles
DESCRIPTION:Small Places cordially invites you to come celebrate the Grand Opening of Finca Tres Robles! \n\n\n\nCome join us at our new farm located at 5715 Canal St. We're excited to showcase our fresh produce\, offer farm tours\, and cut the ribbon on our new home. There are also exciting naming opportunities available for those looking to leave a lasting impact!\n\n\n\nMark your calendars and spread the word   it's going to be a fantastic event!\n\nThe event is free and open to the public.\n\nProgram:\n\n\n	10:00 am: Doors Open\n	11:00 am: Ribbon Cutting Ceremony\n	11:30 am: Farm Tours\n	1:00 pm: Closing Remarks\n	4:00 pm: Event Concludes
X-ALT-DESC;FMTTYPE=text/html:<p><strong>Small Places cordially invites you to come celebrate the Grand Opening of Finca Tres Robles!&nbsp\;</strong><br />\n<br />\nCome join us at our new farm located at&nbsp\;<strong>5715 Canal St</strong>. We&rsquo\;re excited to showcase our fresh produce\, offer farm tours\, and&nbsp\;<strong>cut the ribbon on our new home</strong>. There are also exciting naming opportunities available for those looking to leave a lasting impact!<br />\n<br />\nMark your calendars and spread the word &ndash\; it&rsquo\;s going to be a fantastic event!</p>\n\n<p>The event is free and open to the public.</p>\n\n<p style="text-align: center\;"><strong>Program:</strong></p>\n\n<ul>\n	<li><strong>10:00 am</strong>: Doors Open</li>\n	<li><strong>11:00 am</strong>: Ribbon Cutting Ceremony</li>\n	<li><strong>11:30 am</strong>: Farm Tours</li>\n	<li><strong>1:00 pm</strong>: Closing Remarks</li>\n	<li><strong>4:00 pm</strong>: Event Concludes</li>\n</ul>\n
LOCATION:5715 Canal Street\, Houston\, Texas 77011
UID:e.2026.5072687
SEQUENCE:3
DTSTAMP:20260419T132326Z
URL:http://houstoneastend.smartcms.site/events/details/grand-opening-of-finca-tres-robles-5072687
END:VEVENT

END:VCALENDAR
