BEGIN:VCALENDAR
VERSION:2.0
PRODID:-//ChamberMaster//Event Calendar 2.0//EN
METHOD:PUBLISH
X-PUBLISHED-TTL:P3D
REFRESH-INTERVAL:P3D
CALSCALE:GREGORIAN
BEGIN:VEVENT
DTSTART:20201007T160000Z
DTEND:20201008T000000Z
X-MICROSOFT-CDO-ALLDAYEVENT:FALSE
SUMMARY:Golf Tournament - Activities
DESCRIPTION:Silent Auction Donation Form \n\nOn behalf of Sharron Booker at LyondellBasell and Eloy Cortez at ILA - South Atlantic & Gulf Coast District\, our Golf Tournament Co-Chairs\, we invite you to participate in our 2020 Scholarship Golf Tournament on Wednesday\, October 7\, 2020 at Gus Wortham Golf Course\, with a shotgun start at 1pm.\n\n\n\nOur 2020 Honoree is Commissioner Adrian Garcia. Past honorees include\, the late Steve Stewart\, Gulf Winds International\; Fred Newhouse\, formerly of Valero Houston Refinery\; Commissioner Clyde Fitzgerald\, ILA -South Atlantic & Gulf Coast District\; Captain Robert Thompson\, Houston Pilots Association\; Senator Sylvia R. Garcia\; Commissioner Dean E. Corgey\; Bill Garcia of Garcia Realty\, John Taylor of Houston Mooring Company\, Congressman Gene Green\, and Council Member Robert Gallegos.  We will present a scholarship in honor of Commissioner Adrian Garcia at the awards dinner to a deserving student. Your support will help us achieve our goal and help students through our Education Foundation.
X-ALT-DESC;FMTTYPE=text/html:<a href="https://chambermaster.blob.core.windows.net/userfiles/UserFiles/chambers/2026/File/SilentAuctionDonationForm2020-editable.pdf"><strong><span style="font-size:22px\;">Silent Auction Donation Form&nbsp\;</span></strong></a><br />\n<span style="font-size:12px\;"><span style="font-family:arial\;"><span style="font-size:14px\;">On behalf of Sharron Booker at LyondellBasell and Eloy Cortez at ILA - South Atlantic &amp\; Gulf Coast District\,&nbsp\;our Golf Tournament Co-Chairs\, we invite you to participate in our <strong>2020 Scholarship Golf Tournament on Wednesday\, October 7\, 2020 at Gus Wortham Golf Course</strong>\,&nbsp\;with a shotgun start at 1pm.</span><br />\n<br />\n<span style="font-size:14px\;">Our</span></span><span style="font-size:14px\;"> <strong>2020 Honoree is Commissioner Adrian Garcia.</strong></span><span style="font-family:arial\;"><span style="font-size:14px\;">&nbsp\;Past honorees include\, the late Steve Stewart\, Gulf Winds International\; Fred Newhouse\, formerly of Valero Houston Refinery\; Commissioner Clyde Fitzgerald\, ILA -South Atlantic &amp\; Gulf Coast District\; Captain Robert Thompson\, Houston Pilots Association\; Senator Sylvia R. Garcia\; Commissioner Dean E. Corgey\; Bill Garcia of Garcia Realty\, John Taylor of Houston Mooring Company\, </span></span></span><span style="font-family: arial\; font-size: 14px\;">Congressman Gene Green\, and Council Member Robert Gallegos.</span><span style="font-size:12px\;"><span style="font-family:arial\;"><span style="font-size:14px\;">&nbsp\; We will present a scholarship in honor of&nbsp\;</span></span></span><strong style="font-size: 14px\;">Commissioner Adrian Garcia</strong><strong style="font-family: arial\; font-size: 14px\;">&nbsp\;</strong><span style="font-size:12px\;"><span style="font-family:arial\;"><span style="font-size:14px\;">at the awards dinner to a deserving student. Your support will help us achieve our goal and help students through our Education Foundation. &nbsp\;</span></span></span>\n<hr />\n<p font-size:="" style="color: rgb(51\, 51\, 51)\;" trebuchet="">&nbsp\;</p>\n
LOCATION:Gus Wortham Golf Course 7000 Capitol St Houston\, TX 77011 (713) 928-4260
UID:e.2026.5072143
SEQUENCE:3
DTSTAMP:20260423T123639Z
URL:http://houstoneastend.smartcms.site/events/details/golf-tournament-activities-5072143
END:VEVENT

END:VCALENDAR
