BEGIN:VCALENDAR
VERSION:2.0
PRODID:-//ChamberMaster//Event Calendar 2.0//EN
METHOD:PUBLISH
X-PUBLISHED-TTL:P3D
REFRESH-INTERVAL:P3D
CALSCALE:GREGORIAN
BEGIN:VEVENT
DTSTART:20240305T173000Z
DTEND:20240305T193000Z
X-MICROSOFT-CDO-ALLDAYEVENT:FALSE
SUMMARY:Frost Chuck Wagon Lunch
DESCRIPTION:Tip your hat to the Houston Livestock Show & Rodeo. Join us for a chuck wagon lunch!
X-ALT-DESC;FMTTYPE=text/html:<span style="font-family:arial\,helvetica\,sans-serif"><span style="font-size:14px">Tip your hat to the Houston Livestock Show &amp\; Rodeo. Join us for a chuck wagon lunch!</span></span>
LOCATION:Near Northside Financial Center 2982 Fulton Street Houston\, TX 77009
UID:e.2026.5072561
SEQUENCE:3
DTSTAMP:20260420T113902Z
URL:http://houstoneastend.smartcms.site/events/details/frost-chuck-wagon-lunch-5072561
END:VEVENT

END:VCALENDAR
