BEGIN:VCALENDAR
VERSION:2.0
PRODID:-//ChamberMaster//Event Calendar 2.0//EN
METHOD:PUBLISH
X-PUBLISHED-TTL:P3D
REFRESH-INTERVAL:P3D
CALSCALE:GREGORIAN
BEGIN:VEVENT
DTSTART:20230728T180000Z
DTEND:20230728T200000Z
X-MICROSOFT-CDO-ALLDAYEVENT:FALSE
SUMMARY:FROST CELEBRATES SUMMER WITH COMPLIMENTARY TREATS
DESCRIPTION:Frost invites Houston-area families to come to one of our financial centers for a cold and sweet summer treat. Frost will host a local provider offering guests a variety of frozen goodies. The summer treats are an annual tradition at Frost\, where dedication to the community has been part of the culture since the company began in 1868.
X-ALT-DESC;FMTTYPE=text/html:Frost invites Houston-area families to come to one of our financial centers for a cold and sweet summer treat. Frost will host a local provider offering guests a variety of frozen goodies. The summer treats are an annual tradition at Frost\, where dedication to the community has been part of the culture since the company began in 1868.
LOCATION:7592 Cypress Creek Parkway Houston\, TX 77070
UID:e.2026.5072509
SEQUENCE:3
DTSTAMP:20260421T013521Z
URL:http://houstoneastend.smartcms.site/events/details/frost-celebrates-summer-with-complimentary-treats-5072509
END:VEVENT

END:VCALENDAR
