BEGIN:VCALENDAR
VERSION:2.0
PRODID:-//ChamberMaster//Event Calendar 2.0//EN
METHOD:PUBLISH
X-PUBLISHED-TTL:P3D
REFRESH-INTERVAL:P3D
CALSCALE:GREGORIAN
BEGIN:VEVENT
DTSTART:20180621T170000Z
DTEND:20180621T200000Z
X-MICROSOFT-CDO-ALLDAYEVENT:FALSE
SUMMARY:Frost Bank Summer Sweet Treats
DESCRIPTION:***NON-CHAMBER EVENT***\n\n\n\nFrost invites families to come to a Houston-area financial center for a cold and sweet summer treat as it puts a smile on people's faces through the summertime heat. Frost will host local providers offering guests a variety of frozen goodies. This event is free and open to the public. The summer treats are an annual tradition at Frost\, where dedication to the community has been part of the culture since the company began in 1868.
X-ALT-DESC;FMTTYPE=text/html:<span style="font-family: &quot\;helvetica neue&quot\;\, helvetica\, arial\, sans-serif\;">***NON-CHAMBER EVENT***</span><br />\n<br />\nFrost invites families to come to a Houston-area financial center for a cold and sweet summer treat as it puts a smile on people&rsquo\;s faces through the summertime heat. Frost will host local providers offering guests a variety of frozen goodies. This event is free and open to the public. The summer treats are an annual tradition at Frost\, where dedication to the community has been part of the culture since the company began in 1868.
LOCATION:Frost Bank East End Financial Center 2240 Navigation Blvd. Houston\, Texas 77003
UID:e.2026.5071104
SEQUENCE:3
DTSTAMP:20260425T111952Z
URL:http://houstoneastend.smartcms.site/events/details/frost-bank-summer-sweet-treats-5071104
END:VEVENT

END:VCALENDAR
