BEGIN:VCALENDAR
VERSION:2.0
PRODID:-//ChamberMaster//Event Calendar 2.0//EN
METHOD:PUBLISH
X-PUBLISHED-TTL:P3D
REFRESH-INTERVAL:P3D
CALSCALE:GREGORIAN
BEGIN:VEVENT
DTSTART:20210421T150000Z
DTEND:20210421T180000Z
X-MICROSOFT-CDO-ALLDAYEVENT:FALSE
SUMMARY:Frost Bank SHRED IT
DESCRIPTION:Dispose of your document and enjoy a sweet treat courtesy of Frost. On Wednesday\, April 21\, from 10:00 a.m. to 1:00 p.m.\, Frost is bringing sweet treats and shredding services to its Braeswood Financial Center. So bring in your documents\, start shredding\, and protect your security. This is a drive-up event and participants may remain in their cars.
X-ALT-DESC;FMTTYPE=text/html:Dispose of your document and enjoy a sweet treat courtesy of Frost. On Wednesday\, April 21\, from 10:00 a.m. to 1:00 p.m.\, Frost is bringing sweet treats and shredding services to its Braeswood Financial Center. So bring in your documents\, start shredding\, and protect your security. This is a drive-up event and participants may remain in their cars.
LOCATION:Frost Bank Braeswood Financial Center 8502 Main St. Houston\, TX 77025
UID:e.2026.5072283
SEQUENCE:3
DTSTAMP:20260423T012039Z
URL:http://houstoneastend.smartcms.site/events/details/frost-bank-shred-it-5072283
END:VEVENT

END:VCALENDAR
