BEGIN:VCALENDAR
VERSION:2.0
PRODID:-//ChamberMaster//Event Calendar 2.0//EN
METHOD:PUBLISH
X-PUBLISHED-TTL:P3D
REFRESH-INTERVAL:P3D
CALSCALE:GREGORIAN
BEGIN:VEVENT
DTSTART:20201120T170000Z
DTEND:20201120T180000Z
X-MICROSOFT-CDO-ALLDAYEVENT:FALSE
SUMMARY:Fridays with Frances
DESCRIPTION:REGISTER HERE\n\nRegister today and meet Ivan Gutierrez\, a Milby High School graduate who grew up working at Walmart on 45 & Wayside and is now the Store Manager.  Hear about in his inspiring\, 20 year career with Walmart and how he is working to support and give back to the East End Community.
X-ALT-DESC;FMTTYPE=text/html:<a href="https://us02web.zoom.us/webinar/register/WN_6P7ZNLejRXWQdR42_pKO0w"><strong><span style="font-size:22px\;"><span style="color:#000000\;">REGISTER HERE</span></span></strong></a><br />\n<span style="font-size:20px\;">Register today and meet Ivan Gutierrez\, a Milby High School graduate who grew up working at Walmart on 45 &amp\; Wayside and is now the Store Manager.&nbsp\; Hear about in his inspiring\, 20 year career with Walmart and how he is working to support and give back to the East End Community.</span><br />\n&nbsp\;
LOCATION:Zoom Webinar
UID:e.2026.5072171
SEQUENCE:3
DTSTAMP:20260423T105326Z
URL:http://houstoneastend.smartcms.site/events/details/fridays-with-frances-5072171
END:VEVENT

END:VCALENDAR
