BEGIN:VCALENDAR
VERSION:2.0
PRODID:-//ChamberMaster//Event Calendar 2.0//EN
METHOD:PUBLISH
X-PUBLISHED-TTL:P3D
REFRESH-INTERVAL:P3D
CALSCALE:GREGORIAN
BEGIN:VEVENT
DTSTART:20201113T170000Z
DTEND:20201113T180000Z
X-MICROSOFT-CDO-ALLDAYEVENT:FALSE
SUMMARY:Fridays with Frances
DESCRIPTION:REGISTER HERE\nFRIDAY\, NOVEMBER 13 | 11:00AM \n\nCelebrate the Grand opening of the Houston Botanic Garden with President Claudia Gee Vassar. Learn first hand about the different exhibits and how you can enjoy this amazing Houston institution.
X-ALT-DESC;FMTTYPE=text/html:<a href="https://us02web.zoom.us/webinar/register/WN_r3W5FYVlRXaYdFj2xQxLcw"><strong><span style="font-size:22px\;"><span style="color:#000000\;">REGISTER HERE</span></span></strong></a>\n<div style="color: rgb(64\, 63\, 66)\; font-family: Arial\, Verdana\, Helvetica\, sans-serif\; font-size: 12px\; white-space: pre-wrap\;"><span style="font-size: 18px\; color: rgb(0\, 18\, 90)\; font-weight: bold\;">FRIDAY\, NOVEMBER 13 | 11:00AM</span><span style="font-size: 16px\; color: rgb(0\, 18\, 90)\; font-weight: bold\;">&#65279\;</span></div>\n\n<div style="color: rgb(64\, 63\, 66)\; font-family: Arial\, Verdana\, Helvetica\, sans-serif\; font-size: 12px\; white-space: pre-wrap\;"><span style="font-size: 16px\;">Celebrate the Grand opening of the </span><span style="font-size: 16px\; font-weight: bold\;">Houston Botanic Garden</span><span style="font-size: 16px\;"> with </span><span style="font-size: 16px\; font-weight: bold\;">President Claudia Gee Vassar</span><span style="font-size: 16px\;">. Learn first hand about the different exhibits and how you can enjoy this amazing Houston institution. </span></div>\n
LOCATION:Zoom Webinar
UID:e.2026.5072170
SEQUENCE:3
DTSTAMP:20260423T105411Z
URL:http://houstoneastend.smartcms.site/events/details/fridays-with-frances-5072170
END:VEVENT

END:VCALENDAR
