BEGIN:VCALENDAR
VERSION:2.0
PRODID:-//ChamberMaster//Event Calendar 2.0//EN
METHOD:PUBLISH
X-PUBLISHED-TTL:P3D
REFRESH-INTERVAL:P3D
CALSCALE:GREGORIAN
BEGIN:VEVENT
DTSTART:20190712T160000Z
DTEND:20190712T180000Z
X-MICROSOFT-CDO-ALLDAYEVENT:FALSE
SUMMARY:Free Summer Sweet Treats with Frost Bank North Shore!
DESCRIPTION:Calling all sweet treat lovers! Frost invites families and friends to come to the North Shore financial center for a cold and refreshing sweet treat to kick off summer 2019! Frost will host Treats by Dippin' Dots\, who will be offering guests a variety of frozen goodies. Join us from 11 a.m. to 1 p.m. at the North Shore financial center for a sweet taste of summer with Frost Bank! This event is free and open to the public. The summer treats are an annual tradition at Frost\, where dedication to the community has been part of the culture since the company began in 1868.
X-ALT-DESC;FMTTYPE=text/html:Calling all sweet treat lovers! Frost invites families and friends to come to the North Shore financial center for a cold and refreshing sweet treat to kick off summer 2019! Frost will host Treats by Dippin&rsquo\; Dots\, who will be offering guests a variety of frozen goodies. Join us from 11 a.m. to 1 p.m. at the North Shore financial center for a sweet taste of summer with Frost Bank! This event is free and open to the public. The summer treats are an annual tradition at Frost\, where dedication to the community has been part of the culture since the company began in 1868.
LOCATION:Frost Bank North Shore 13630 East Freeway\, Houston\, TX 77015
UID:e.2026.5071623
SEQUENCE:3
DTSTAMP:20260424T130834Z
URL:http://houstoneastend.smartcms.site/events/details/free-summer-sweet-treats-with-frost-bank-north-shore-5071623
END:VEVENT

END:VCALENDAR
