BEGIN:VCALENDAR
VERSION:2.0
PRODID:-//ChamberMaster//Event Calendar 2.0//EN
METHOD:PUBLISH
X-PUBLISHED-TTL:P3D
REFRESH-INTERVAL:P3D
CALSCALE:GREGORIAN
BEGIN:VEVENT
DTSTART:20190621T170000Z
DTEND:20190621T190000Z
X-MICROSOFT-CDO-ALLDAYEVENT:FALSE
SUMMARY:Free Summer Sweet Treats with Frost Bank East End!
DESCRIPTION:Calling all sweet treat lovers! Frost invites families and friends to come to the East End Financial Center for a cold and refreshing sweet treat to kick off summer 2019! Frost will host Kona Ice\, who will be offering guests a variety of frozen goodies. Join us from 12 p.m. to 2 p.m. at the East End Financial Center for a sweet taste of summer with Frost Bank! This event is free and open to the public. The summer treats are an annual tradition at Frost\, where dedication to the community has been part of the culture since the company began in 1868.
X-ALT-DESC;FMTTYPE=text/html:Calling all sweet treat lovers! Frost invites families and friends to come to the East End Financial Center for a cold and refreshing sweet treat to kick off summer 2019! Frost will host Kona Ice\, who will be offering guests a variety of frozen goodies. Join us from 12 p.m. to 2 p.m. at the East End Financial Center for a sweet taste of summer with Frost Bank! This event is free and open to the public. The summer treats are an annual tradition at Frost\, where dedication to the community has been part of the culture since the company began in 1868.
LOCATION:2240 Navigation Blvd.\, Houston\, TX 77003
UID:e.2026.5071620
SEQUENCE:3
DTSTAMP:20260424T145214Z
URL:http://houstoneastend.smartcms.site/events/details/free-summer-sweet-treats-with-frost-bank-east-end-5071620
END:VEVENT

END:VCALENDAR
