BEGIN:VCALENDAR
VERSION:2.0
PRODID:-//ChamberMaster//Event Calendar 2.0//EN
METHOD:PUBLISH
X-PUBLISHED-TTL:P3D
REFRESH-INTERVAL:P3D
CALSCALE:GREGORIAN
BEGIN:VEVENT
DTSTART:20210212T170000Z
DTEND:20210212T180000Z
X-MICROSOFT-CDO-ALLDAYEVENT:FALSE
SUMMARY:Feel Good Friday
DESCRIPTION:REGISTER HERE\n\n\n\nJoin us for our Feel Good Friday\, February 12\, 11 a.m. with State Representative Christina Morales.  We will have a casual conversation to hear her priorities for the 87th Legislature and how her passion for our community will drive her to for the 2021 Legislative session.  You will also learn her favorite spots to eat and play in her district and other favorite things.
X-ALT-DESC;FMTTYPE=text/html:<div><span style="font-size:22px\;"><a href="https://us02web.zoom.us/webinar/register/WN_SFI_JcoUQAaj6QDcsfBSEQ">REGISTER HERE</a></span><br />\n<br />\nJoin us for our Feel Good Friday\, February 12\, 11 a.m. with State Representative Christina Morales.&nbsp\; We will have a casual conversation to hear her priorities for the 87<sup>th</sup> Legislature and how her passion for our community will drive her to for the 2021 Legislative session. &nbsp\;You will also learn her favorite spots to eat and play in her district and other favorite things.<br />\n&nbsp\;</div>\n\n<div style="clear:both\;">&nbsp\;</div>\n
LOCATION:Zoom Webinar
UID:e.2026.5072275
SEQUENCE:3
DTSTAMP:20260423T044725Z
URL:http://houstoneastend.smartcms.site/events/details/feel-good-friday-5072275
END:VEVENT

END:VCALENDAR
