BEGIN:VCALENDAR
VERSION:2.0
PRODID:-//ChamberMaster//Event Calendar 2.0//EN
METHOD:PUBLISH
X-PUBLISHED-TTL:P3D
REFRESH-INTERVAL:P3D
CALSCALE:GREGORIAN
BEGIN:VEVENT
DTSTART:20210327T000000Z
DTEND:20210327T020000Z
X-MICROSOFT-CDO-ALLDAYEVENT:FALSE
SUMMARY:EAST END THRIVERS - VIRTUAL AWARDS CELEBRATION
DESCRIPTION:2020 Houston East End Chamber Awards & Scholarship Celebration\n\n\n \n\n\nAfter an unprecedented year\, join us as we honor East End Thrivers\, whose efforts and leadership in 2020 helped our economy and community not only survive\, but thrive.\n\n \n\nThis one-hour live streaming Celebration will be virtual and recognize six "thrivers\," organizations and individuals doing exceptional things in our community. We believe that good work deserves to be recognized\, even during these unusual times.\n\n \n\nWe believe that it is now more important than ever to recognize the good happening in the East End Community. Proceeds from the event will further the East End Chamber's mission to connect businesses and promote economic expansion and development in the areas. A portion of the proceeds will benefit our continuing workforce and scholarship initiatives with the youth of the East End Area.\n\n\n\nDOWNLOAD FLYER\n\n\n\nWe are proud to announce our 2020 Award Celebration Finalists!\n\n \n\n\nAldecoa Good Neighbor Award is presented to a non-profit organization who has made significant contributions to the community and the chamber.\n\n \n\nEmancipet\n\nNew Hope Housing \n\nTejano Center for Community Concerns \n\n \n\nFemale Executive Award is presented to the female executive who has made significant contributions to the chamber and leadership in the community.\n\n  \n\nMaria Echeverry\, Gulf Coast Distillers/Aldecoa Coffee \n\nMarcie Mir\, El Centro de Corazon\n\nDebbie Ortiz\, AAMA \n\n \n\nMale Executive Award is presented to the male executive who has made significant contributions to the chamber and leadership in the community.\n\n \n\nSidney Lacey\, Lacey Newday Consulting\, LLC\n\nChris Lewis\, Cooper/Ports America  \n\nJorge Peraza\, Insperity \n\n \n\nBest Small Business Award is presented to the company that best exemplifies an innovative and financially sound small business that adds to the economic well-being of the community and makes significant contributions to it.\n\n \n\nFinca Tres Robles \n\nKacal?s Auto & Truck \n\nXELA Coffee  \n\n \n\nOutstanding Corporate Citizen Award is presented to the corporate business that exemplifies the characteristics of a good neighbor in the community such as doing business within the community\, initiating and completing community enhancing projects\, outstanding employee relations and exemplary corporate practices and policies including environmental protection and safety.\n\n\n\nGLO CPA?s \n\nInternational Longshoreman?s Association \n\nTexas Port Recycling \n\n \n\nEd Wulfe Economic Development Award this award is in honor of Ed Wulfe\, who?s redevelopment of the Gulfgate Shopping Center revitalized and helped enhance the face of the East End community. This award is presented to the individual\, company or organization that has contributed significantly to employment\, capital investment or other activities beyond normal business operation.\n\n \n\nAlloy Carbide Co. \n\nCommon Desk \n\nThe Gonzalez Law Group \n\n \n\n \n\n \n\n\n\nATTEND THE EVENT!\n\nZOOM & CHILL PACKAGE | $150\n\n\n	1 Gift Box\n	Link to Event\n\n\n\nPARTICIPANT LINK | $50\n\n\n	Link to Event\n\n\n\n\n\nSponsorship Opportunities:\n\nMARITIME PARTNER | $3\,000\n\n\n	Listed for 1 year as a partner on event web page\n	Social media marketing\n	Mention in email blasts\n	Banner ad in 1 email blast\n	2 Gift Boxes\n\n\n\nCELEBRATION PARTNER | $5\,000\n\n\n	Listed for 1 year as a partner on event web page\n	Social Media featuring your company as event sponsor\n	Recognition on email blasts\n	Company logo on all printed materials\n	Event invitation recognition\n	Inclusion in all media\n	Social media marketing\n	Master of Ceremonies recognition\n	Company spotlight board\n	Banner ad in 3 email blasts throughout the year\n	4 Gift Boxes\n\n\n\nUNDERWRITER PARTNER | $7\,500\n\n\n	Title sponsorship of event\n	Opportunity to announce one Community Award recipient\n	Footage on Gala video featuring your company/logo\n	Social Media featuring your company as event sponsor\n	Listed for 1 year as Title Sponsor on event webpage\n	Company logo on all printed materials\n	Recognition on evite\n	Inclusion in all media\n	Social media marketing\n	Recognition on email blasts\n	Master of Ceremonies recognition/opening remarks\n	Banner ad in 3 email blasts throughout the year\n	4 Gift Boxes\n\n\n\nADDITIONAL SPONSORSHIP | $2\,000 each\n\n\n	Gift Box Sponsor\n	Silent Auction Sponsor\n	Snack Sponsor\n	Memento Sponsor
X-ALT-DESC;FMTTYPE=text/html:<h3 style="text-align: center\;"><strong><span style="font-size:20px\;">2020 Houston East End Chamber Awards &amp\; Scholarship Celebration</span></strong></h3>\n\n<div>\n<div style="text-align: center\;">&nbsp\;</div>\n\n<div>\n<div style="text-align: center\;"><span style="font-size:16px\;">After an unprecedented year\, join us as we honor East End Thrivers\, whose efforts and leadership in 2020 helped our economy and community not only survive\, but thrive.</span><br />\n&nbsp\;</div>\n\n<div style="text-align: center\;"><span style="font-size:16px\;">This one-hour live streaming Celebration will be virtual and recognize six &quot\;thrivers\,&quot\;&nbsp\;organizations and individuals doing exceptional things in our community. We believe that good work deserves to be recognized\, even during these unusual times.</span><br />\n&nbsp\;</div>\n\n<div style="text-align: center\;"><span style="font-size:16px\;">We believe that it is now more important than ever to recognize the good happening in the East End Community. Proceeds from the event will further the East End Chamber&#39\;s mission to connect businesses and promote economic expansion and development in the areas. A portion of the proceeds will benefit our continuing workforce and scholarship initiatives with the youth of the East End Area.</span><br />\n<br />\n<strong><span style="font-size: 20px\;"><span style="font-size: 24px\;"><a href="https://chambermaster.blob.core.windows.net/userfiles/UserFiles/chambers/2026/File/EECOC_Flyer20201.pdf">DOWNLOAD FLYER</a></span></span></strong><br />\n<br />\n<strong><span style="color:#4C4C4C\;"><span style="font-family:arial\,sans-serif\;"><span style="font-size:13.5pt\;">We are proud to announce our 2020 Award Celebration Finalists!</span></span></span></strong>\n\n<div>&nbsp\;</div>\n\n<div>\n<div style="text-align: center\;"><span style="font-size:16px\;"><strong><span style="font-family:arial\,sans-serif\;">Aldecoa Good Neighbor Award</span></strong><span style="color:#403F42\;"><span style="font-family:arial\,sans-serif\;"> is presented to a non-profit organization who has made significant contributions to the community and the chamber.</span></span><br />\n&nbsp\;</span><br />\n<span style="font-size:16px\;"><strong><span style="color:#403F42\;"><span style="font-family:arial\,sans-serif\;">Emancipet</span></span></strong></span><br />\n<span style="font-size:16px\;"><strong><span style="color:#403F42\;"><span style="font-family:arial\,sans-serif\;">New Hope Housing </span></span></strong></span><br />\n<span style="font-size:16px\;"><strong><span style="color:#403F42\;"><span style="font-family:arial\,sans-serif\;">Tejano Center for Community Concerns </span></span></strong></span><br />\n<span style="font-size:16px\;">&nbsp\;<br />\n<strong><span style="font-family:arial\,sans-serif\;">Female Executive Award</span></strong><span style="font-family:arial\,sans-serif\;"> </span><span style="color:#403F42\;"><span style="font-family:arial\,sans-serif\;">is presented to the female executive who has made significant contributions to the chamber and leadership in the community.</span></span><br />\n&nbsp\; </span><br />\n<span style="font-size:16px\;"><strong><span style="color:#403F42\;"><span style="font-family:arial\,sans-serif\;">Maria Echeverry\, Gulf Coast Distillers/Aldecoa Coffee&nbsp\;</span></span></strong></span><br />\n<span style="font-size:16px\;"><strong><span style="color:#403F42\;"><span style="font-family:arial\,sans-serif\;">Marcie Mir\, El Centro de Corazon</span></span></strong></span><br />\n<span style="font-size:16px\;"><strong><span style="color:#403F42\;"><span style="font-family:arial\,sans-serif\;">Debbie Ortiz\, AAMA </span></span></strong></span><br />\n<span style="font-size:16px\;">&nbsp\;<br />\n<strong><span style="font-family:arial\,sans-serif\;">Male Executive Award</span></strong><span style="color:#403F42\;"><span style="font-family:arial\,sans-serif\;"> is presented to the male executive who has made significant contributions to the chamber and leadership in the community.</span></span><br />\n&nbsp\;</span><br />\n<span style="font-size:16px\;"><strong><span style="color:#403F42\;"><span style="font-family:arial\,sans-serif\;">Sidney Lacey\, Lacey Newday Consulting\, LLC</span></span></strong></span><br />\n<span style="font-size:16px\;"><strong><span style="color:#403F42\;"><span style="font-family:arial\,sans-serif\;">Chris Lewis\, Cooper/Ports America&nbsp\;&nbsp\;</span></span></strong></span><br />\n<span style="font-size:16px\;"><strong><span style="color:#403F42\;"><span style="font-family:arial\,sans-serif\;">Jorge Peraza\, Insperity&nbsp\;</span></span></strong></span><br />\n<span style="font-size:16px\;">&nbsp\;<br />\n<strong><span style="font-family:arial\,sans-serif\;">Best Small Business Award</span></strong><span style="color:#403F42\;"><span style="font-family:arial\,sans-serif\;"> is presented to the company that best exemplifies an innovative and financially sound small business that adds to the economic well-being of the community and makes significant contributions to it.</span></span><br />\n&nbsp\;</span><br />\n<span style="font-size:16px\;"><strong><span style="color:#403F42\;"><span style="font-family:arial\,sans-serif\;">Finca Tres Robles </span></span></strong></span><br />\n<span style="font-size:16px\;"><strong><span style="color:#403F42\;"><span style="font-family:arial\,sans-serif\;">Kacal?s Auto &amp\; Truck&nbsp\;</span></span></strong></span><br />\n<span style="font-size:16px\;"><strong><span style="color:#403F42\;"><span style="font-family:arial\,sans-serif\;">XELA Coffee&nbsp\;&nbsp\;</span></span></strong></span><br />\n<span style="font-size:16px\;">&nbsp\;<br />\n<strong><span style="font-family:arial\,sans-serif\;">Outstanding Corporate Citizen Award</span></strong><span style="color:#403F42\;"><span style="font-family:arial\,sans-serif\;"> is presented to the corporate business that exemplifies the characteristics of a good neighbor in the community such as doing business within the community\, initiating and completing community enhancing projects\, outstanding employee relations and exemplary corporate practices and policies including environmental protection and safety.</span></span></span><br />\n<br />\n<span style="font-size:16px\;"><strong><span style="color:#403F42\;"><span style="font-family:arial\,sans-serif\;">GLO CPA?s </span></span></strong></span><br />\n<span style="font-size:16px\;"><strong><span style="color:#403F42\;"><span style="font-family:arial\,sans-serif\;">International Longshoreman?s Association </span></span></strong></span><br />\n<span style="font-size:16px\;"><strong><span style="color:#403F42\;"><span style="font-family:arial\,sans-serif\;">Texas Port Recycling&nbsp\;</span></span></strong></span><br />\n<span style="font-size:16px\;">&nbsp\;<br />\n<strong><span style="font-family:arial\,sans-serif\;">Ed Wulfe Economic Development Award</span></strong><span style="font-family:arial\,sans-serif\;"> </span><span style="color:#403F42\;"><span style="font-family:arial\,sans-serif\;">this award is in honor of Ed Wulfe\, who?s redevelopment of the Gulfgate Shopping Center revitalized and helped enhance the face of the East End community. This award is presented to the individual\, company or organization that has contributed significantly to employment\, capital investment or other activities beyond normal business operation.</span></span><br />\n&#65279\;</span><br />\n<span style="font-size:16px\;"><strong><span style="color:#403F42\;"><span style="font-family:arial\,sans-serif\;">Alloy Carbide Co. </span></span></strong></span><br />\n<span style="font-size:16px\;"><strong><span style="color:#403F42\;"><span style="font-family:arial\,sans-serif\;">Common Desk&nbsp\;</span></span></strong></span><br />\n<span style="font-size:16px\;"><strong><span style="color:#403F42\;"><span style="font-family:arial\,sans-serif\;">The Gonzalez Law Group </span></span></strong></span><br />\n&nbsp\;<br />\n&nbsp\;</div>\n\n<div>&nbsp\;</div>\n\n<div style="text-align: left\;">\n<div>\n<div><u><span style="color: rgb(255\, 165\, 0)\;"><span style="font-size: 24px\;"><strong>ATTEND THE EVENT!</strong></span></span></u></div>\n\n<div><strong><span style="font-size: 20px\;">ZOOM &amp\; CHILL PACKAGE | $150</span></strong></div>\n\n<ul>\n	<li style="text-align: left\;"><span style="font-size: 14px\;">1 Gift Box</span></li>\n	<li style="text-align: left\;"><span style="font-size: 14px\;">Link to Event</span></li>\n</ul>\n\n<div>\n<div><strong><span style="font-size: 20px\;">PARTICIPANT LINK | $50</span></strong></div>\n\n<ul>\n	<li style="text-align: left\;"><span style="font-size: 14px\;">Link to Event</span></li>\n</ul>\n</div>\n</div>\n<br />\n<strong><span style="font-size:20px\;"><u><span style="font-size:24px\;"><span style="color:#FFA500\;">Sponsorship Opportunities:</span></span></u><br />\nMARITIME PARTNER | $3\,000</span></strong></div>\n\n<ul>\n	<li style="text-align: left\;"><span style="font-size:14px\;">Listed for 1 year as a partner on event web page</span></li>\n	<li style="text-align: left\;"><span style="font-size:14px\;">Social media marketing</span></li>\n	<li style="text-align: left\;"><span style="font-size:14px\;">Mention in email blasts</span></li>\n	<li style="text-align: left\;"><span style="font-size:14px\;">Banner ad in 1 email blast</span></li>\n	<li style="text-align: left\;"><span style="font-size:14px\;">2 Gift Boxes</span></li>\n</ul>\n\n<div style="text-align: left\;">\n<div><strong><span style="font-size: 20px\;">CELEBRATION PARTNER | $5\,000</span></strong></div>\n\n<ul>\n	<li style="text-align: left\;"><span style="font-size: 14px\;">Listed for 1 year as a partner on event web page</span></li>\n	<li style="text-align: left\;"><span style="font-size: 14px\;">Social Media featuring your company as event sponsor</span></li>\n	<li style="text-align: left\;"><span style="font-size: 14px\;">Recognition on email blasts</span></li>\n	<li style="text-align: left\;"><span style="font-size: 14px\;">Company logo on all printed materials</span></li>\n	<li style="text-align: left\;"><span style="font-size: 14px\;">Event invitation recognition</span></li>\n	<li style="text-align: left\;"><span style="font-size: 14px\;">Inclusion in all media</span></li>\n	<li style="text-align: left\;"><span style="font-size: 14px\;">Social media marketing</span></li>\n	<li style="text-align: left\;"><span style="font-size: 14px\;">Master of Ceremonies recognition</span></li>\n	<li style="text-align: left\;"><span style="font-size: 14px\;">Company spotlight board</span></li>\n	<li style="text-align: left\;"><span style="font-size: 14px\;">Banner ad in 3 email blasts throughout the year</span></li>\n	<li style="text-align: left\;"><span style="font-size: 14px\;">4 Gift Boxes</span></li>\n</ul>\n\n<div style="text-align: left\;">\n<div><strong><span style="font-size: 20px\;">UNDERWRITER PARTNER | $7\,500</span></strong></div>\n\n<ul>\n	<li style="text-align: left\;"><span style="font-size: 14px\;">Title sponsorship of event</span></li>\n	<li style="text-align: left\;"><span style="font-size: 14px\;">Opportunity to announce one Community Award recipient</span></li>\n	<li style="text-align: left\;"><span style="font-size: 14px\;">Footage on Gala video featuring your company/logo</span></li>\n	<li style="text-align: left\;"><span style="font-size: 14px\;">Social Media featuring your company as event sponsor</span></li>\n	<li style="text-align: left\;"><span style="font-size: 14px\;">Listed for 1 year as Title Sponsor on event webpage</span></li>\n	<li style="text-align: left\;"><span style="font-size: 14px\;">Company logo on all printed materials</span></li>\n	<li style="text-align: left\;"><span style="font-size: 14px\;">Recognition on evite</span></li>\n	<li style="text-align: left\;"><span style="font-size: 14px\;">Inclusion in all media</span></li>\n	<li style="text-align: left\;"><span style="font-size: 14px\;">Social media marketing</span></li>\n	<li style="text-align: left\;"><span style="font-size: 14px\;">Recognition on email blasts</span></li>\n	<li style="text-align: left\;"><span style="font-size: 14px\;">Master of Ceremonies recognition/opening remarks</span></li>\n	<li style="text-align: left\;"><span style="font-size: 14px\;">Banner ad in 3 email blasts throughout the year</span></li>\n	<li style="text-align: left\;"><span style="font-size: 14px\;">4 Gift Boxes</span></li>\n</ul>\n\n<div style="text-align: left\;">\n<div><strong><span style="font-size: 20px\;">ADDITIONAL SPONSORSHIP | $2\,000 each</span></strong></div>\n\n<ul>\n	<li style="text-align: left\;"><span style="font-size: 14px\;">Gift Box Sponsor</span></li>\n	<li style="text-align: left\;"><span style="font-size: 14px\;">Silent Auction Sponsor</span></li>\n	<li style="text-align: left\;"><span style="font-size: 14px\;">Snack Sponsor</span></li>\n	<li style="text-align: left\;"><span style="font-size: 14px\;">Memento Sponsor</span></li>\n</ul>\n\n<div style="text-align: left\;">\n<div><br />\n&nbsp\;</div>\n</div>\n</div>\n</div>\n</div>\n</div>\n</div>\n</div>\n</div>\n&nbsp\;\n\n<p style="margin: 0px\; font-stretch: normal\; font-size: 11.5px\; line-height: normal\; font-family: Gotham\; color: rgb(34\, 30\, 31)\;">&nbsp\;</p>\n
LOCATION:VIRTUAL
UID:e.2026.5072269
SEQUENCE:3
DTSTAMP:20260423T030432Z
URL:http://houstoneastend.smartcms.site/events/details/east-end-thrivers-virtual-awards-celebration-5072269
END:VEVENT

END:VCALENDAR
