BEGIN:VCALENDAR
VERSION:2.0
PRODID:-//ChamberMaster//Event Calendar 2.0//EN
METHOD:PUBLISH
X-PUBLISHED-TTL:P3D
REFRESH-INTERVAL:P3D
CALSCALE:GREGORIAN
BEGIN:VEVENT
DTSTART:20210317T210000Z
DTEND:20210317T220000Z
X-MICROSOFT-CDO-ALLDAYEVENT:FALSE
SUMMARY:East End Chamber Board Meeting
DESCRIPTION:Monthly Board Meeting
X-ALT-DESC;FMTTYPE=text/html:Monthly Board Meeting&nbsp\;&nbsp\;&nbsp\;&nbsp\;
LOCATION:Board Meetings will be held virtually via zoom until further notice.
UID:e.2026.5072202
SEQUENCE:3
DTSTAMP:20260423T030646Z
URL:http://houstoneastend.smartcms.site/events/details/east-end-chamber-board-meeting-03-17-2021-5072202
END:VEVENT

END:VCALENDAR
