BEGIN:VCALENDAR
VERSION:2.0
PRODID:-//ChamberMaster//Event Calendar 2.0//EN
METHOD:PUBLISH
X-PUBLISHED-TTL:P3D
REFRESH-INTERVAL:P3D
CALSCALE:GREGORIAN
BEGIN:VEVENT
DTSTART:20210729T160000Z
DTEND:20210729T180000Z
X-MICROSOFT-CDO-ALLDAYEVENT:FALSE
SUMMARY:Dedicated Senior Medical Center Ribbon Cutting
DESCRIPTION:Let's celebrate! Please join us in welcoming Dedicated Senior Medical Center to the Houston East End Chamber of Commerce with a Ribbon Cutting ceremony.\n\n \n\nDedicated Senior Medical Center is a family-owned primary and specialty care practice committed to delivering superior healthcare to Medicare-eligible seniors.
X-ALT-DESC;FMTTYPE=text/html:<div class="kvgmc6g5 cxmmr5t8 oygrvhab hcukyx3x c1et5uql" color:="" font-size:="" segoe="" style="overflow-wrap: break-word\; margin: 0px\;" ui=""><span style="font-size:16px\;"><span style="font-family:arial\;">Let&#39\;s celebrate! Please join us in welcoming Dedicated Senior Medical Center&nbsp\;to the Houston East End Chamber of Commerce with a Ribbon Cutting ceremony.</span></span><br />\n&nbsp\;</div>\n\n<div class="kvgmc6g5 cxmmr5t8 oygrvhab hcukyx3x c1et5uql" color:="" font-size:="" segoe="" style="overflow-wrap: break-word\; margin: 0px\;" ui=""><span style="font-size:16px\;"><span style="font-family:arial\;"><span style="color: rgb(82\, 82\, 82)\; text-align: center\;">Dedicated Senior Medical Center is a family-owned primary and&nbsp\;specialty care practice committed to delivering superior healthcare to Medicare-eligible seniors.</span></span></span></div>\n
LOCATION:8471 Gulf Freeway Houston\, TX 77017
UID:e.2026.5072300
SEQUENCE:3
DTSTAMP:20260422T194855Z
URL:http://houstoneastend.smartcms.site/events/details/dedicated-senior-medical-center-ribbon-cutting-5072300
END:VEVENT

END:VCALENDAR
