BEGIN:VCALENDAR
VERSION:2.0
PRODID:-//ChamberMaster//Event Calendar 2.0//EN
METHOD:PUBLISH
X-PUBLISHED-TTL:P3D
REFRESH-INTERVAL:P3D
CALSCALE:GREGORIAN
BEGIN:VEVENT
DTSTART:20201110T170000Z
DTEND:20201110T180000Z
X-MICROSOFT-CDO-ALLDAYEVENT:FALSE
SUMMARY:COVID-19 Business Webinar
DESCRIPTION:REGISTER HERE\n\n\nMaster Organic SEO - Learn simple strategies to get great results on google!\n\nJoin us as we learn online marketing strategies that will help your website rank at the top of organic\, unpaid search engine results pages.
X-ALT-DESC;FMTTYPE=text/html:<a href="https://us02web.zoom.us/webinar/register/WN_rPMZBF51QeiLmS7nxrsJ4A"><strong><span style="font-size:22px\;"><span style="color:#000000\;">REGISTER HERE</span></span></strong></a>\n<div style="color: rgb(64\, 63\, 66)\; font-family: Arial\, Verdana\, Helvetica\, sans-serif\; font-size: 12px\; white-space: pre-wrap\; text-align: center\;">\n<div style="color: rgb(64\, 63\, 66)\; font-family: Arial\, Verdana\, Helvetica\, sans-serif\; font-size: 12px\; white-space: pre-wrap\; text-align: center\;">\n<div class="kvgmc6g5 cxmmr5t8 oygrvhab hcukyx3x c1et5uql" color:="" font-size:="" segoe="" style="overflow-wrap: break-word\; margin: 0px\; text-align: left\;" ui=""><span style="font-size:22px\;"><strong>Master Organic SEO - Learn simple strategies&nbsp\;to get great results on google!</strong></span><br />\n<span style="font-size:20px\;"><span style="color: rgb(0\, 0\, 0)\; font-family: Arial\; white-space: pre-wrap\;">Join us as we learn online marketing strategies that will help your website rank at the top of organic\, unpaid search engine results pages.</span></span></div>\n</div>\n</div>\n
LOCATION:Zoom Webinar
UID:e.2026.5072172
SEQUENCE:3
DTSTAMP:20260423T110157Z
URL:http://houstoneastend.smartcms.site/events/details/covid-19-business-webinar-5072172
END:VEVENT

END:VCALENDAR
