BEGIN:VCALENDAR
VERSION:2.0
PRODID:-//ChamberMaster//Event Calendar 2.0//EN
METHOD:PUBLISH
X-PUBLISHED-TTL:P3D
REFRESH-INTERVAL:P3D
CALSCALE:GREGORIAN
BEGIN:VEVENT
DTSTART:20201117T170000Z
DTEND:20201117T180000Z
X-MICROSOFT-CDO-ALLDAYEVENT:FALSE
SUMMARY:COVID-19 Business Webinar
DESCRIPTION:REGISTER HERE\n\n\n\nJoin us for a FREE Business Webinar Tuesday\, November 17 at 11:00 AM\n\n \n\nThe CARES Act and PPP Loans have introduced a new level of complexity to the tax code. If you have received any support from PPP Loans or stimulus funds\, this is the webinar to watch as you prepare for your 2020 taxes.\n\n \n\nTHIS WEBINAR IS SPONSORED BY: Frost Bank
X-ALT-DESC;FMTTYPE=text/html:<a href="https://us02web.zoom.us/webinar/register/WN_-0bRVqcGTBiPsIGjb7EsIA"><strong><span style="font-size:22px\;"><span style="color:#000000\;">REGISTER HERE</span></span></strong></a>\n<div style="color: rgb(64\, 63\, 66)\; font-family: Arial\, Verdana\, Helvetica\, sans-serif\; font-size: 12px\; white-space: pre-wrap\; text-align: center\;">\n<div style="color: rgb(64\, 63\, 66)\; font-family: Arial\, Verdana\, Helvetica\, sans-serif\; font-size: 12px\; white-space: pre-wrap\; text-align: center\;">\n<div class="kvgmc6g5 cxmmr5t8 oygrvhab hcukyx3x c1et5uql" color:="" font-size:="" segoe="" style="overflow-wrap: break-word\; margin: 0px\; text-align: left\;" ui="">\n<div style="color: rgb(64\, 63\, 66)\; font-family: Arial\, Verdana\, Helvetica\, sans-serif\; font-size: 12px\; white-space: pre-wrap\; text-align: center\;"><span style="font-size: 18px\; color: rgb(0\, 183\, 175)\; font-weight: bold\;">Join us for a FREE Business Webinar Tuesday\, November 17 at 11:00 AM</span></div>\n\n<div style="color: rgb(64\, 63\, 66)\; font-family: Arial\, Verdana\, Helvetica\, sans-serif\; font-size: 12px\; white-space: pre-wrap\; text-align: center\;">&nbsp\;</div>\n\n<div style="color: rgb(64\, 63\, 66)\; font-family: Arial\, Verdana\, Helvetica\, sans-serif\; font-size: 12px\; white-space: pre-wrap\; text-align: center\;"><span style="font-size: 15px\;">The CARES Act and PPP Loans have introduced a new level of complexity to the tax code. If you have received any support from PPP Loans or stimulus funds\, this is the webinar to watch as you prepare for your 2020 taxes.</span></div>\n\n<div style="color: rgb(64\, 63\, 66)\; font-family: Arial\, Verdana\, Helvetica\, sans-serif\; font-size: 12px\; white-space: pre-wrap\; text-align: center\;">&nbsp\;</div>\n\n<div style="color: rgb(64\, 63\, 66)\; font-family: Arial\, Verdana\, Helvetica\, sans-serif\; font-size: 12px\; white-space: pre-wrap\; text-align: center\;"><span style="font-size: 15px\; font-weight: bold\;">THIS WEBINAR IS SPONSORED BY: </span><a data-link-type="web" href="https://locations.frostbank.com/houston/1001-broadway-st" rel="noopener noreferrer" style="color: rgb(64\, 63\, 66)\; font-weight: bold\; font-size: 15px\;" target="_blank">Frost Bank</a></div>\n</div>\n</div>\n</div>\n
LOCATION:Zoom Webinar
UID:e.2026.5072167
SEQUENCE:3
DTSTAMP:20260423T110143Z
URL:http://houstoneastend.smartcms.site/events/details/covid-19-business-webinar-5072167
END:VEVENT

END:VCALENDAR
