BEGIN:VCALENDAR
VERSION:2.0
PRODID:-//ChamberMaster//Event Calendar 2.0//EN
METHOD:PUBLISH
X-PUBLISHED-TTL:P3D
REFRESH-INTERVAL:P3D
CALSCALE:GREGORIAN
BEGIN:VEVENT
DTSTART:20171117T133000Z
DTEND:20171117T153000Z
X-MICROSOFT-CDO-ALLDAYEVENT:FALSE
SUMMARY:Chuck Wagon Breakfast - Frost Bank East End Financial Center
DESCRIPTION:Frost will celebrate the opening of its new East End Financial Center with three days of opening events that introduce Frost's innovative design providing greater convenience and service to Houston-area customers. \n\n\n\nFrost currently operates 136 financial centers across Texas\, including 34 in the Houston region. The East End Financial Center Ribbon Cutting Ceremony will take place at 5 p.m. on Wednesday\, Nov. 15. Frost will present a "big check" to Talento Bilingue de Houston Cultural Arts and Education Center\, a local charity\, to show its commitment to the community.  \n\n\n\nFeaturing coffee\, juice\, biscuits\, gravy\, eggs and sausage.
X-ALT-DESC;FMTTYPE=text/html:<span style="font-family:arial\,sans-serif\;">Frost will celebrate the opening of its new East End Financial Center with three days of opening events that introduce Frost&rsquo\;s innovative design providing greater convenience and service to Houston-area customers. </span><br />\n<br />\n<span style="font-family:arial\,sans-serif\;">Frost currently operates <span style="color:black\;">136</span></span> financial centers across Texas\, including <span style="color:black\;">34 </span>in the Houston region. The East End Financial Center Ribbon Cutting Ceremony will take place at 5 p.m. on Wednesday\, Nov. 15. <span style="font-family:arial\,sans-serif\;">Frost will present a &ldquo\;big check&rdquo\; to Talento Bilingue de Houston Cultural Arts and Education Center\, a local charity\, to show its commitment to the community.&nbsp\;&nbsp\;</span><br />\n<br />\n<span style="font-family:arial\,sans-serif\;">Featuring coffee\, juice\, biscuits\, gravy\, eggs and sausage.</span>
LOCATION:East End Financial Center 2240 Navigation Blvd.\, Suite 400 Houston\, Texas 77003
UID:e.2026.5069022
SEQUENCE:3
DTSTAMP:20260426T011008Z
URL:http://houstoneastend.smartcms.site/events/details/chuck-wagon-breakfast-frost-bank-east-end-financial-center-5069022
END:VEVENT

END:VCALENDAR
